BEGIN:VCALENDAR
VERSION:2.0
PRODID:-//ChamberMaster//Event Calendar 2.0//EN
METHOD:PUBLISH
X-PUBLISHED-TTL:P3D
REFRESH-INTERVAL:P3D
CALSCALE:GREGORIAN
BEGIN:VEVENT
DTSTART:20171204T000000Z
DTEND:20171204T010000Z
X-MICROSOFT-CDO-ALLDAYEVENT:FALSE
SUMMARY:Full Moon Hike
DESCRIPTION:Early winter is a special time of the year in the park. Visibility in the woods is better once the leaves have been shed. Join the park naturalist on an evening walk that will be illuminated by the full moon. The hike will be between two and three miles.\n\nPreregistration is required.\n\nMeet in parking lot #5.\n\nAges: adults & children ages 8 & up\; free.
X-ALT-DESC;FMTTYPE=text/html:<p background:="" border-radius:="" border:="" color:="" font-size:="" letter-spacing:="" line-height:="" none="" style="box-sizing: border-box\; margin: 0px 0px 15px\; padding: 0px\; font-family: " text-rendering:="" texta="" w00="">Early winter is a special time of the year in the park. Visibility in the woods is better once the leaves have been shed. Join the park naturalist on an evening walk that will be illuminated by the full moon. The hike will be between two and three miles.</p>\n\n<p background:="" border-radius:="" border:="" color:="" font-size:="" letter-spacing:="" line-height:="" none="" style="box-sizing: border-box\; margin: 0px 0px 15px\; padding: 0px\; font-family: " text-rendering:="" texta="" w00=""><strong style="box-sizing: border-box\; line-height: inherit\;">Preregistration is required.</strong></p>\n\n<p background:="" border-radius:="" border:="" color:="" font-size:="" letter-spacing:="" line-height:="" none="" style="box-sizing: border-box\; margin: 0px 0px 15px\; padding: 0px\; font-family: " text-rendering:="" texta="" w00="">Meet in parking lot #5.</p>\n\n<p background:="" border-radius:="" border:="" color:="" font-size:="" letter-spacing:="" line-height:="" none="" style="box-sizing: border-box\; margin: 0px 0px 15px\; padding: 0px\; font-family: " text-rendering:="" texta="" w00="">Ages: adults &amp\; children ages 8 &amp\; up\; free.</p>\n
LOCATION:Norristown Farm Park 2500 Upper Farm Road Norristown\, PA 19403
UID:e.2183.848846
SEQUENCE:3
DTSTAMP:20260421T080011Z
URL:https://business.tricountyareachamber.com/events/details/full-moon-hike-848846
END:VEVENT

END:VCALENDAR
