BEGIN:VCALENDAR
VERSION:2.0
PRODID:-//ChamberMaster//Event Calendar 2.0//EN
METHOD:PUBLISH
X-PUBLISHED-TTL:P3D
REFRESH-INTERVAL:P3D
CALSCALE:GREGORIAN
BEGIN:VEVENT
DTSTART:20240130T190000Z
DTEND:20240130T200000Z
X-MICROSOFT-CDO-ALLDAYEVENT:FALSE
SUMMARY:Gift Card Bingo
DESCRIPTION:Come in from the cold and warm up with some lively games of bingo at Keystone Villa at Douglassville on Tuesday\, Jan. 30 at 2 p.m.\, in Independent Living's dining room\, 1180 Ben Franklin Highway E. Play along for your chance to win gift cards while enjoying delicious hot cocoa and cookies. Enter to win winter-themed gift baskets too! This event is free and open to the public. Register by Jan. 22 by calling Missy at 610-385-5000.
X-ALT-DESC;FMTTYPE=text/html:Come in from the cold and warm up with some lively games of bingo at Keystone Villa at Douglassville on Tuesday\, Jan. 30 at 2 p.m.\, in Independent Living&rsquo\;s dining room\, 1180 Ben Franklin Highway E. Play along for your chance to win gift cards while enjoying delicious hot cocoa and cookies. Enter to win winter-themed gift baskets too! This event is free and open to the public. Register by Jan. 22 by calling Missy at 610-385-5000.
LOCATION:Keystone Villa at Douglassville\, Independent Living\, 1180 Ben Franklin Highway E.\, Douglassville
UID:e.2183.859371
SEQUENCE:3
DTSTAMP:20260422T233836Z
URL:https://business.tricountyareachamber.com/events/details/gift-card-bingo-859371
END:VEVENT

END:VCALENDAR
