BEGIN:VCALENDAR
VERSION:2.0
PRODID:-//ChamberMaster//Event Calendar 2.0//EN
METHOD:PUBLISH
X-PUBLISHED-TTL:P3D
REFRESH-INTERVAL:P3D
CALSCALE:GREGORIAN
BEGIN:VEVENT
DTSTART:20161115T213000Z
DTEND:20161115T233000Z
X-MICROSOFT-CDO-ALLDAYEVENT:FALSE
SUMMARY:Giving Thanks Holiday Mixer/Expo
DESCRIPTION:EXPO TABLES ARE SOLD OUT!\n\n\n\nThis year our annual Holiday Mixer has a new name and is in a new month - Giving Thanks Holiday Mixer/Expo on November 15!\n\n\n\nThis mixer will offer you a unique opportunity to gain exposure for your business and make connections with other Chamber members while enjoying refreshments donated by our Member restaurants and caterers:\n\n\n	Expo Tables are limited to 25 on a first come basis - register online or contact Kitty if you are interested in a expo table.\n\n	\n		 $50 includes: one 8-foot expo table with two chairs\n		Listing in Route 422 Business Advisor after the event \n	\n	\n	Co-Host Sponsorship Opportunity Available - $500\n	\n		one 8-foot expo tables with chairs in a prominent location at the event\n		Logo promoted on all event marketing material\, on this event webpage\, and in the Route 422 Business Advisor\n		Complimentary Newsmagazine Insert (distribution 10\,000+)\n		Acknowledged at upcoming Membership Breakfast\n	\n	\n	Holiday Wreath Giveaways: Businesses can provide a decorated wreath for a door prize for business card drawings.\n	Launch of Small Business Saturday - marketing materials will be distributed.\n	PART will again collect donations to benefit the Pottstown Cluster of Religious Communities. Acceptable items can include: laundry detergent\, all-purpose cleaners\, paper towels\, toiletries\, and canned fruits\, vegetables\, soups\, tuna fish\, and tomato products.\n	"Golden Ticket" giveaways - you could be the lucky winner!\n	Sponsorships available. Please contact Kitty at 610.326.2900 or kitty@tricountyareachamber.com.
X-ALT-DESC;FMTTYPE=text/html:<div style="text-align: center\;"><span style="color:#FF0000\;"><span style="font-size:12px\;"><span style="font-family:arial\;"><span style="font-size:16px\;"><strong>EXPO TABLES ARE SOLD OUT!</strong></span></span></span></span></div>\n\n<div><br />\n<span style="font-size:12px\;"><span style="font-family:arial\;">This year our annual Holiday Mixer&nbsp\;has a new name and is in a new month - <strong>Giving Thanks Holiday Mixer/Expo </strong>on<strong> November 15!</strong><br />\n<br />\nThis mixer will offer you a unique opportunity to gain <strong>exposure for your business</strong> and <strong>make connections with other Chamber members</strong> while enjoying refreshments donated by our Member restaurants and caterers:</span></span></div>\n\n<ul>\n	<li><strong style="color: rgb(51\, 51\, 51)\; font-family: arial\; font-size: 12px\; line-height: 19.2px\; background-color: rgb(255\, 255\, 255)\;">Expo Tables</strong><span style="color: rgb(51\, 51\, 51)\; font-family: arial\; font-size: 12px\; line-height: 19.2px\; background-color: rgb(255\, 255\, 255)\;">&nbsp\;are limited to&nbsp\;</span><strong style="color: rgb(51\, 51\, 51)\; font-family: arial\; font-size: 12px\; line-height: 19.2px\; background-color: rgb(255\, 255\, 255)\;">25&nbsp\;</strong><span style="color: rgb(51\, 51\, 51)\; font-family: arial\; font-size: 12px\; line-height: 19.2px\; background-color: rgb(255\, 255\, 255)\;">on a first come basis - register online or contact&nbsp\;</span><a href="mailto:kitty@tricountyareachamber.com" style="color: rgb(7\, 130\, 193)\; font-family: arial\; font-size: 12px\; line-height: 19.2px\; background-color: rgb(255\, 255\, 255)\;">Kitty&nbsp\;</a><span style="color: rgb(51\, 51\, 51)\; font-family: arial\; font-size: 12px\; line-height: 19.2px\; background-color: rgb(255\, 255\, 255)\;">if you are interested in a expo table.</span>\n\n	<ul>\n		<li><span style="color: rgb(51\, 51\, 51)\; font-family: arial\; font-size: 12px\; line-height: 19.2px\; background-color: rgb(255\, 255\, 255)\;">&#8203\;$50 includes: one 8-foot expo table with two chairs</span></li>\n		<li><span style="color: rgb(51\, 51\, 51)\; font-family: arial\; font-size: 12px\; line-height: 19.2px\; background-color: rgb(255\, 255\, 255)\;">Listing in&nbsp\;<em>Route 422 Business Advisor</em>&nbsp\;after the event</span><span style="color: rgb(51\, 51\, 51)\; font-family: arial\; font-size: 12px\; line-height: 19.2px\; background-color: rgb(255\, 255\, 255)\;">&nbsp\;</span></li>\n	</ul>\n	</li>\n	<li><strong>Co-Host Sponsorship</strong> Opportunity Available - $500\n	<ul>\n		<li>one 8-foot expo tables with chairs in a prominent location at the event</li>\n		<li>Logo promoted on all event marketing material\, on this event webpage\, and in the&nbsp\;<em>Route 422 Business Advisor</em></li>\n		<li>Complimentary Newsmagazine Insert (distribution 10\,000+)</li>\n		<li>Acknowledged at upcoming Membership Breakfast</li>\n	</ul>\n	</li>\n	<li><span style="color: rgb(51\, 51\, 51)\; font-family: arial\; font-size: 12px\; line-height: 19.2px\; background-color: rgb(255\, 255\, 255)\;"><span style="font-size:12px\;"><span style="font-family:arial\;"><strong>Holiday Wreath Giveaways:</strong> Businesses can provide a decorated wreath for a door prize for business card drawings.</span></span></span></li>\n	<li><span style="color: rgb(51\, 51\, 51)\; font-family: arial\; font-size: 12px\; line-height: 19.2px\; background-color: rgb(255\, 255\, 255)\;"><span style="font-size:12px\;"><span style="font-family:arial\;">Launch of <strong>Small Business Saturday</strong> - marketing materials will be distributed.</span></span></span></li>\n	<li><span style="color: rgb(51\, 51\, 51)\; font-family: arial\; font-size: 12px\; line-height: 19.2px\; background-color: rgb(255\, 255\, 255)\;"><span style="font-size:12px\;"><span style="font-family:arial\;">PART will again <strong>collect donations</strong> to benefit the Pottstown Cluster of Religious Communities. Acceptable items can include: laundry detergent\, all-purpose cleaners\, paper towels\, toiletries\, and canned fruits\, vegetables\, soups\, tuna fish\, and tomato products.</span></span></span></li>\n	<li><span style="color: rgb(51\, 51\, 51)\; font-family: arial\; font-size: 12px\; line-height: 19.2px\; background-color: rgb(255\, 255\, 255)\;"><span style="font-size:12px\;"><span style="font-family:arial\;"><strong>&quot\;Golden Ticket&quot\; giveaways</strong> - you could be the lucky winner!</span></span></span></li>\n	<li><span style="color: rgb(51\, 51\, 51)\; font-family: arial\; font-size: 12px\; line-height: 19.2px\; background-color: rgb(255\, 255\, 255)\;"><span style="font-size:12px\;"><span style="font-family:arial\;"><span style="font-size:12px\;"><span style="font-family:arial\;"><strong>Sponsorships </strong>available. Please contact Kitty at 610.326.2900 or <a href="mailto:kitty@tricountyareachamber.com">kitty@tricountyareachamber.com</a>.&nbsp\;</span></span></span></span></span></li>\n</ul>\n
LOCATION:Norco Fire Company 144 W. Schuylkill Rd. Pottstown\, PA 19465
UID:e.2183.846153
SEQUENCE:3
DTSTAMP:20260422T113549Z
URL:https://business.tricountyareachamber.com/events/details/giving-thanks-holiday-mixer-expo-11-15-2016-846153
END:VEVENT

END:VCALENDAR
