BEGIN:VCALENDAR
VERSION:2.0
PRODID:-//ChamberMaster//Event Calendar 2.0//EN
METHOD:PUBLISH
X-PUBLISHED-TTL:P3D
REFRESH-INTERVAL:P3D
CALSCALE:GREGORIAN
BEGIN:VEVENT
DTSTART:20170208T163000Z
DTEND:20170208T180000Z
X-MICROSOFT-CDO-ALLDAYEVENT:FALSE
SUMMARY:Google Partners Connect
DESCRIPTION:DaBrian Marketing Group is excited to invite you to our office for a Free Google Partners Event. In addition to a free lunch and a networking opportunity\, this event will feature a live streaming video from Google that will highlight one of the great features of Pay per Click (PPC) - Measurement!\n\n\n\nAs marketers\, we know it is important to be able to reach and surpass your business goals. With PPC advertising\, it is easy to identify which keywords\, ads\, and pages are driving traffic as well as conversions (leads or sales) that contribute to your bottom line.\n\n\n\nAnd\, we'll provide a free lunch and parking!
X-ALT-DESC;FMTTYPE=text/html:<span style="color:rgb(75\, 79\, 86)\; font-family:helvetica\,arial\,sans-serif\; font-size:14px">DaBrian Marketing Group is excited to invite you to our office for a Free Google Partners Event. In addition to a free lunch and a networking opportunity\, this event will feature a live streaming video from Google that will highlight one of the great features of Pay per Click (PPC) - Measurement!</span><br />\n<br />\n<span style="color:rgb(75\, 79\, 86)\; font-family:helvetica\,arial\,sans-serif\; font-size:14px">As marketers\, we know it is important to be able to reach and surpass your business goals. With PPC advertising\, it is easy to identify which keywords\, ads\, and pages are driving traffic as well as conversions (leads or sales) that contribute to your bottom line.</span><br />\n<br />\n<span style="color:rgb(75\, 79\, 86)\; font-family:helvetica\,arial\,sans-serif\; font-size:14px">And\, we&#39\;ll provide a free lunch and parking!</span>
LOCATION:DaBrian Marketing Group\, LLC 500 Penn St #201\, Reading\, PA 19602
UID:e.2183.847471
SEQUENCE:3
DTSTAMP:20260420T163848Z
URL:https://business.tricountyareachamber.com/events/details/google-partners-connect-847471
END:VEVENT

END:VCALENDAR
