BEGIN:VCALENDAR
VERSION:2.0
PRODID:-//ChamberMaster//Event Calendar 2.0//EN
METHOD:PUBLISH
X-PUBLISHED-TTL:P3D
REFRESH-INTERVAL:P3D
CALSCALE:GREGORIAN
BEGIN:VEVENT
DTSTART;VALUE=DATE:20170930
DTEND;VALUE=DATE:20171001
TRANSP:TRANSPARENT
X-MICROSOFT-CDO-ALLDAYEVENT:TRUE
SUMMARY:GPTL Golf Tournament
DESCRIPTION:Greater Pottstown Tennis & Learning (GPTL)\, a nonprofit tennis program\, will be hosting our First Annual Golf Tournament at Twin Ponds Golf Club in Gilbertsville\, PA. Please visit www.greaterpottstowntennis.com to sign up. Come join the fun! Thank you for supporting youth tennis.
X-ALT-DESC;FMTTYPE=text/html:Greater Pottstown Tennis &amp\; Learning (GPTL)\, a nonprofit tennis program\, will be hosting our First Annual Golf Tournament at Twin Ponds Golf Club in Gilbertsville\, PA. Please visit <a href="http://www.greaterpottstowntennis.com">www.greaterpottstowntennis.com</a> to sign up. Come join the fun! Thank you for supporting youth tennis.
LOCATION:Twin Ponds Golf Club 700 Gilbertsville Rd. Gilbertsville\, PA 19525
UID:e.2183.848792
SEQUENCE:3
DTSTAMP:20260421T025202Z
URL:https://business.tricountyareachamber.com/events/details/gptl-golf-tournament-848792
END:VEVENT

END:VCALENDAR
