BEGIN:VCALENDAR
VERSION:2.0
PRODID:-//ChamberMaster//Event Calendar 2.0//EN
METHOD:PUBLISH
X-PUBLISHED-TTL:P3D
REFRESH-INTERVAL:P3D
CALSCALE:GREGORIAN
BEGIN:VEVENT
DTSTART:20170527T133000Z
DTEND:20170527T200000Z
X-MICROSOFT-CDO-ALLDAYEVENT:FALSE
SUMMARY:Grand Re-Opening of the Boyertown Museum of Historic Vehicles
DESCRIPTION:Come out and see our new floor and our new display of PA made vehicles. Light refreshments will be served. See live blacksmithing in the 1872 Jeremiah Sweinhart Carriage Factory.
X-ALT-DESC;FMTTYPE=text/html:Come out and see our new floor and our new display of PA made vehicles. Light refreshments will be served. See live blacksmithing in the 1872 Jeremiah Sweinhart Carriage Factory.
LOCATION:85 S. Walnut Street Boyertown\, PA 19512
UID:e.2183.847647
SEQUENCE:3
DTSTAMP:20260420T200757Z
URL:https://business.tricountyareachamber.com/events/details/grand-re-opening-of-the-boyertown-museum-of-historic-vehicles-847647
END:VEVENT

END:VCALENDAR
