BEGIN:VCALENDAR
VERSION:2.0
PRODID:-//ChamberMaster//Event Calendar 2.0//EN
METHOD:PUBLISH
X-PUBLISHED-TTL:P3D
REFRESH-INTERVAL:P3D
CALSCALE:GREGORIAN
BEGIN:VEVENT
DTSTART:20210302T133000Z
DTEND:20210302T163000Z
X-MICROSOFT-CDO-ALLDAYEVENT:FALSE
SUMMARY:GRCA Supervisor Training Module 1: Principles of Supervision (Spring 2021)
DESCRIPTION:If this year has shown us anything\, it is the importance of strong leadership - a business cannot navigate unprecedented\, challenging times without an effective leader. We are very excited to be partnering with Greater Reading Chamber Alliance (GRCA) to offer the Supervisor Training certificate program to Chamber Members. If you are preparing an employee to transition into a supervisory role\, this training will equip them with the tools and knowledge necessary to become an effective leader that will navigate your team and company to success. \n\n \n\nModule 1: Principles of Supervision kicks off on Tuesday\, March 2 and continues every following Tuesday through April 6. Each session is from 8:30AM to 11:30AM and registrants have the option to attend in-person or virtually - they can skip the commute and learn from the comfort of their office or home! Topics covered in Module 1 include:\n\n\n	Supervisor's Role in Management\n	Understanding Yourself & Others (DISC)\n	Communication & Listening\n	Understanding Groups & Developing Teams\n	Emotional Intelligence\, Part 1\n	Emotional Intelligence\, Part 2\n\n\n\n\nGRCA Supervisor Training is split into 3 modules. You are required to complete all 3 (in any order) to\n\nreceive the certificate of completion\, but you may still participate in any of them individually if you are not interested in receiving the certification. TCACC is offering a $300 scholarship to first-time Supervisor Training participants (can only be applied to one module)! Below are starting dates for upcoming modules - each module repeats for 6 weeks:\n\n\n	Module 2: Managing Performance & Developing Employees - starts Wednesday\, February 24\n	Module 1: Principles of Supervision - starts Tuesday\, March 2\n	Module 3: Leveraging Workplace Relationships for Organizational Success - starts Wednesday\, April 14\n	Module 2: Managing Performance &amp\; Developing Employees - starts Thursday\, April 22\n\n\nIf you have any questions regarding TCACC's partnership with the Greater Reading Chamber Alliance in offering this training please contact me at eileen@tricountyareachamber.com or 610.326.2900.
X-ALT-DESC;FMTTYPE=text/html:<div dir="ltr" style="line-height: 1.38\; margin-top: 0pt\; margin-bottom: 0pt\;"><span style="font-size:12px\;"><span style="font-family:arial\;"><span id="docs-internal-guid-8285fd1d-7fff-b37e-87e2-c5d5d6ec9eed"><span style="font-variant-numeric: normal\; font-variant-east-asian: normal\; vertical-align: baseline\; white-space: pre-wrap\;">If this year has shown us anything\, it is the importance of strong leadership - a business cannot navigate unprecedented\, challenging times without an effective leader. We are very excited to be partnering with Greater Reading Chamber Alliance (GRCA) to offer the Supervisor Training certificate program to Chamber Members.</span><span style="font-weight: 700\; font-variant-numeric: normal\; font-variant-east-asian: normal\; vertical-align: baseline\; white-space: pre-wrap\;"> If you are preparing an employee to transition into a supervisory role\, this training will equip them with the tools and knowledge necessary to become an effective leader that will navigate your team and company to success.</span><span style="font-variant-numeric: normal\; font-variant-east-asian: normal\; vertical-align: baseline\; white-space: pre-wrap\;"> </span></span></span></span><br />\n&nbsp\;</div>\n\n<div dir="ltr" style="line-height: 1.38\; margin-top: 0pt\; margin-bottom: 0pt\;"><span style="font-size:12px\;"><span style="font-family:arial\;"><span id="docs-internal-guid-8285fd1d-7fff-b37e-87e2-c5d5d6ec9eed"><span style="font-weight: 700\; font-variant-numeric: normal\; font-variant-east-asian: normal\; vertical-align: baseline\; white-space: pre-wrap\;">Module 1: Principles of Supervision kicks off on Tuesday\, March 2 and continues every following Tuesday through April 6. </span><span style="font-variant-numeric: normal\; font-variant-east-asian: normal\; vertical-align: baseline\; white-space: pre-wrap\;">Each session is from 8:30AM to 11:30AM and registrants have the option to attend in-person or virtually - they can skip the commute and learn from the comfort of their office or home! Topics covered in Module 1 include:</span></span></span></span></div>\n\n<ul dir="ltr">\n	<li role="presentation" style="list-style-type: disc\; font-size: 11pt\; font-family: Arial\; font-variant-numeric: normal\; font-variant-east-asian: normal\; vertical-align: baseline\; white-space: pre\; line-height: 1.38\; margin-top: 0pt\; margin-bottom: 0pt\;"><span style="font-size:12px\;"><span style="font-family:arial\;"><span id="docs-internal-guid-8285fd1d-7fff-b37e-87e2-c5d5d6ec9eed"><span style="font-variant-numeric: normal\; font-variant-east-asian: normal\; vertical-align: baseline\; white-space: pre-wrap\;">Supervisor&rsquo\;s Role in Management</span></span></span></span></li>\n	<li role="presentation" style="list-style-type: disc\; font-size: 11pt\; font-family: Arial\; font-variant-numeric: normal\; font-variant-east-asian: normal\; vertical-align: baseline\; white-space: pre\; line-height: 1.38\; margin-top: 0pt\; margin-bottom: 0pt\;"><span style="font-size:12px\;"><span style="font-family:arial\;"><span id="docs-internal-guid-8285fd1d-7fff-b37e-87e2-c5d5d6ec9eed"><span style="font-variant-numeric: normal\; font-variant-east-asian: normal\; vertical-align: baseline\; white-space: pre-wrap\;">Understanding Yourself &amp\; Others (DISC)</span></span></span></span></li>\n	<li role="presentation" style="list-style-type: disc\; font-size: 11pt\; font-family: Arial\; font-variant-numeric: normal\; font-variant-east-asian: normal\; vertical-align: baseline\; white-space: pre\; line-height: 1.38\; margin-top: 0pt\; margin-bottom: 0pt\;"><span style="font-size:12px\;"><span style="font-family:arial\;"><span id="docs-internal-guid-8285fd1d-7fff-b37e-87e2-c5d5d6ec9eed"><span style="font-variant-numeric: normal\; font-variant-east-asian: normal\; vertical-align: baseline\; white-space: pre-wrap\;">Communication &amp\; Listening</span></span></span></span></li>\n	<li role="presentation" style="list-style-type: disc\; font-size: 11pt\; font-family: Arial\; font-variant-numeric: normal\; font-variant-east-asian: normal\; vertical-align: baseline\; white-space: pre\; line-height: 1.38\; margin-top: 0pt\; margin-bottom: 0pt\;"><span style="font-size:12px\;"><span style="font-family:arial\;"><span id="docs-internal-guid-8285fd1d-7fff-b37e-87e2-c5d5d6ec9eed"><span style="font-variant-numeric: normal\; font-variant-east-asian: normal\; vertical-align: baseline\; white-space: pre-wrap\;">Understanding Groups &amp\; Developing Teams</span></span></span></span></li>\n	<li role="presentation" style="list-style-type: disc\; font-size: 11pt\; font-family: Arial\; font-variant-numeric: normal\; font-variant-east-asian: normal\; vertical-align: baseline\; white-space: pre\; line-height: 1.38\; margin-top: 0pt\; margin-bottom: 0pt\;"><span style="font-size:12px\;"><span style="font-family:arial\;"><span id="docs-internal-guid-8285fd1d-7fff-b37e-87e2-c5d5d6ec9eed"><span style="font-variant-numeric: normal\; font-variant-east-asian: normal\; vertical-align: baseline\; white-space: pre-wrap\;">Emotional Intelligence\, Part 1</span></span></span></span></li>\n	<li role="presentation" style="list-style-type: disc\; font-size: 11pt\; font-family: Arial\; font-variant-numeric: normal\; font-variant-east-asian: normal\; vertical-align: baseline\; white-space: pre\; line-height: 1.38\; margin-top: 0pt\; margin-bottom: 0pt\;"><span style="font-size:12px\;"><span style="font-family:arial\;"><span id="docs-internal-guid-8285fd1d-7fff-b37e-87e2-c5d5d6ec9eed"><span style="font-variant-numeric: normal\; font-variant-east-asian: normal\; vertical-align: baseline\; white-space: pre-wrap\;">Emotional Intelligence\, Part 2</span></span></span></span></li>\n</ul>\n\n<div dir="ltr" style="line-height: 1.38\; margin-top: 0pt\; margin-bottom: 0pt\;">\n<div dir="ltr" style="color: rgb(51\, 51\, 51)\; font-family: sans-serif\, Arial\, Verdana\, &quot\;Trebuchet MS&quot\;\; font-size: 13px\; line-height: 1.38\; margin-top: 0pt\; margin-bottom: 0pt\;">\n<div dir="ltr" style="line-height: 1.38\; margin-top: 0pt\; margin-bottom: 0pt\;"><strong>GRCA Supervisor Training is split into 3 modules. You are required to complete all 3 (in any order) to<br />\nreceive the certificate of completion\, but you may still participate in any of them individually if you are not interested in receiving the certification.</strong>&nbsp\;<span style="color: rgb(255\, 0\, 0)\;"><strong>TCACC is offering a $300 scholarship to first-time Supervisor Training participants (can only be applied to one module)!</strong></span>&nbsp\;<strong>Below are starting dates for upcoming modules - each module repeats for 6 weeks:</strong></div>\n\n<ul>\n	<li style="line-height: 1.38\; margin-top: 0pt\; margin-bottom: 0pt\;">Module 2: Managing Performance &amp\;&nbsp\;Developing Employees - starts Wednesday\, February 24</li>\n	<li style="line-height: 1.38\; margin-top: 0pt\; margin-bottom: 0pt\;">Module 1: Principles of Supervision - starts Tuesday\, March 2</li>\n	<li style="line-height: 1.38\; margin-top: 0pt\; margin-bottom: 0pt\;">Module 3: Leveraging Workplace Relationships for Organizational Success - starts Wednesday\, April 14</li>\n	<li style="line-height: 1.38\; margin-top: 0pt\; margin-bottom: 0pt\;">Module 2: Managing Performance &amp\;amp\; Developing Employees - starts Thursday\, April 22</li>\n</ul>\n</div>\n<span style="color: rgb(51\, 51\, 51)\; font-family: sans-serif\, Arial\, Verdana\, &quot\;Trebuchet MS&quot\;\; font-size: 12px\;"><span style="font-family: arial\;"><span id="docs-internal-guid-8285fd1d-7fff-b37e-87e2-c5d5d6ec9eed"><span style="color: rgb(34\, 34\, 34)\; background-color: rgb(255\, 255\, 255)\; font-variant-numeric: normal\; font-variant-east-asian: normal\; vertical-align: baseline\; white-space: pre-wrap\;">If you have any questions regarding TCACC&rsquo\;s partnership with the Greater Reading Chamber Alliance in offering this training please contact me at </span><span style="color: rgb(17\, 85\, 204)\; background-color: rgb(255\, 255\, 255)\; font-variant-numeric: normal\; font-variant-east-asian: normal\; vertical-align: baseline\; white-space: pre-wrap\;">eileen@tricountyareachamber.com</span><span style="color: rgb(34\, 34\, 34)\; background-color: rgb(255\, 255\, 255)\; font-variant-numeric: normal\; font-variant-east-asian: normal\; vertical-align: baseline\; white-space: pre-wrap\;"> or 610.326.2900.</span></span></span></span></div>\n
LOCATION:Center for Business Excellence 49 Commerce Dr.\, Wyomissing\, PA 19610 OR virtually via Zoom
UID:e.2183.856483
SEQUENCE:3
DTSTAMP:20260423T180727Z
URL:https://business.tricountyareachamber.com/events/details/grca-supervisor-training-module-1-principles-of-supervision-spring-2021-856483
END:VEVENT

END:VCALENDAR
