BEGIN:VCALENDAR
VERSION:2.0
PRODID:-//ChamberMaster//Event Calendar 2.0//EN
METHOD:PUBLISH
X-PUBLISHED-TTL:P3D
REFRESH-INTERVAL:P3D
CALSCALE:GREGORIAN
BEGIN:VEVENT
DTSTART:20210106T133000Z
DTEND:20210106T163000Z
X-MICROSOFT-CDO-ALLDAYEVENT:FALSE
SUMMARY:GRCA Supervisor Training Module 1: Principles of Supervision (Winter 2021)
DESCRIPTION:If this year has shown us anything\, it is the importance of strong leadership - a business cannot navigate unprecedented\, challenging times without an effective leader. We are very excited to be partnering with Greater Reading Chamber Alliance (GRCA) to offer the Supervisor Training certificate program to Chamber Members. If you are preparing an employee to transition into a supervisory role\, this training will equip them with the tools and knowledge necessary to become an effective leader that will navigate your team and company to success. \n\n \n\nModule 1: Principles of Supervision kicks off on Wednesday\, January 6 and continues every following Wednesday through February 10. Each session is from 8:30AM to 11:30AM and registrants have the option to attend in-person or virtually - they can skip the commute and learn from the comfort of their office or home! Topics covered in Module 1 include:\n\n\n	Supervisor's Role in Management\n	Understanding Yourself & Others (DISC)\n	Communication & Listening\n	Understanding Groups & Developing Teams\n	Emotional Intelligence\, Part 1\n	Emotional Intelligence\, Part 2\n\n\nChamber Members can access Module 1 for only $595 (value of $745).  For more details and to register for this module\, please click here to be directed to GRCA's website. TCACC Members should select "TriCounty Area Chamber of Commerce" when prompted during registration.\n\n\nIf you have any questions regarding TCACC's partnership with the Greater Reading Chamber Alliance in offering this training please contact me at eileen@tricountyareachamber.com or 610.326.2900.
X-ALT-DESC;FMTTYPE=text/html:<div dir="ltr" style="line-height: 1.38\; margin-top: 0pt\; margin-bottom: 0pt\;"><span style="font-size:12px\;"><span style="font-family:arial\;"><span id="docs-internal-guid-8285fd1d-7fff-b37e-87e2-c5d5d6ec9eed"><span style="font-variant-numeric: normal\; font-variant-east-asian: normal\; vertical-align: baseline\; white-space: pre-wrap\;">If this year has shown us anything\, it is the importance of strong leadership - a business cannot navigate unprecedented\, challenging times without an effective leader. We are very excited to be partnering with Greater Reading Chamber Alliance (GRCA) to offer the Supervisor Training certificate program to Chamber Members.</span><span style="font-weight: 700\; font-variant-numeric: normal\; font-variant-east-asian: normal\; vertical-align: baseline\; white-space: pre-wrap\;"> If you are preparing an employee to transition into a supervisory role\, this training will equip them with the tools and knowledge necessary to become an effective leader that will navigate your team and company to success.</span><span style="font-variant-numeric: normal\; font-variant-east-asian: normal\; vertical-align: baseline\; white-space: pre-wrap\;"> </span></span></span></span><br />\n&nbsp\;</div>\n\n<div dir="ltr" style="line-height: 1.38\; margin-top: 0pt\; margin-bottom: 0pt\;"><span style="font-size:12px\;"><span style="font-family:arial\;"><span id="docs-internal-guid-8285fd1d-7fff-b37e-87e2-c5d5d6ec9eed"><span style="font-weight: 700\; font-variant-numeric: normal\; font-variant-east-asian: normal\; vertical-align: baseline\; white-space: pre-wrap\;">Module 1: Principles of Supervision kicks off on Wednesday\, January 6 and continues every following Wednesday through February 10. </span><span style="font-variant-numeric: normal\; font-variant-east-asian: normal\; vertical-align: baseline\; white-space: pre-wrap\;">Each session is from 8:30AM to 11:30AM and registrants have the option to attend in-person or virtually - they can skip the commute and learn from the comfort of their office or home! Topics covered in Module 1 include:</span></span></span></span></div>\n\n<ul dir="ltr">\n	<li role="presentation" style="list-style-type: disc\; font-size: 11pt\; font-family: Arial\; font-variant-numeric: normal\; font-variant-east-asian: normal\; vertical-align: baseline\; white-space: pre\; line-height: 1.38\; margin-top: 0pt\; margin-bottom: 0pt\;"><span style="font-size:12px\;"><span style="font-family:arial\;"><span id="docs-internal-guid-8285fd1d-7fff-b37e-87e2-c5d5d6ec9eed"><span style="font-variant-numeric: normal\; font-variant-east-asian: normal\; vertical-align: baseline\; white-space: pre-wrap\;">Supervisor&rsquo\;s Role in Management</span></span></span></span></li>\n	<li role="presentation" style="list-style-type: disc\; font-size: 11pt\; font-family: Arial\; font-variant-numeric: normal\; font-variant-east-asian: normal\; vertical-align: baseline\; white-space: pre\; line-height: 1.38\; margin-top: 0pt\; margin-bottom: 0pt\;"><span style="font-size:12px\;"><span style="font-family:arial\;"><span id="docs-internal-guid-8285fd1d-7fff-b37e-87e2-c5d5d6ec9eed"><span style="font-variant-numeric: normal\; font-variant-east-asian: normal\; vertical-align: baseline\; white-space: pre-wrap\;">Understanding Yourself &amp\; Others (DISC)</span></span></span></span></li>\n	<li role="presentation" style="list-style-type: disc\; font-size: 11pt\; font-family: Arial\; font-variant-numeric: normal\; font-variant-east-asian: normal\; vertical-align: baseline\; white-space: pre\; line-height: 1.38\; margin-top: 0pt\; margin-bottom: 0pt\;"><span style="font-size:12px\;"><span style="font-family:arial\;"><span id="docs-internal-guid-8285fd1d-7fff-b37e-87e2-c5d5d6ec9eed"><span style="font-variant-numeric: normal\; font-variant-east-asian: normal\; vertical-align: baseline\; white-space: pre-wrap\;">Communication &amp\; Listening</span></span></span></span></li>\n	<li role="presentation" style="list-style-type: disc\; font-size: 11pt\; font-family: Arial\; font-variant-numeric: normal\; font-variant-east-asian: normal\; vertical-align: baseline\; white-space: pre\; line-height: 1.38\; margin-top: 0pt\; margin-bottom: 0pt\;"><span style="font-size:12px\;"><span style="font-family:arial\;"><span id="docs-internal-guid-8285fd1d-7fff-b37e-87e2-c5d5d6ec9eed"><span style="font-variant-numeric: normal\; font-variant-east-asian: normal\; vertical-align: baseline\; white-space: pre-wrap\;">Understanding Groups &amp\; Developing Teams</span></span></span></span></li>\n	<li role="presentation" style="list-style-type: disc\; font-size: 11pt\; font-family: Arial\; font-variant-numeric: normal\; font-variant-east-asian: normal\; vertical-align: baseline\; white-space: pre\; line-height: 1.38\; margin-top: 0pt\; margin-bottom: 0pt\;"><span style="font-size:12px\;"><span style="font-family:arial\;"><span id="docs-internal-guid-8285fd1d-7fff-b37e-87e2-c5d5d6ec9eed"><span style="font-variant-numeric: normal\; font-variant-east-asian: normal\; vertical-align: baseline\; white-space: pre-wrap\;">Emotional Intelligence\, Part 1</span></span></span></span></li>\n	<li role="presentation" style="list-style-type: disc\; font-size: 11pt\; font-family: Arial\; font-variant-numeric: normal\; font-variant-east-asian: normal\; vertical-align: baseline\; white-space: pre\; line-height: 1.38\; margin-top: 0pt\; margin-bottom: 0pt\;"><span style="font-size:12px\;"><span style="font-family:arial\;"><span id="docs-internal-guid-8285fd1d-7fff-b37e-87e2-c5d5d6ec9eed"><span style="font-variant-numeric: normal\; font-variant-east-asian: normal\; vertical-align: baseline\; white-space: pre-wrap\;">Emotional Intelligence\, Part 2</span></span></span></span></li>\n</ul>\n\n<div dir="ltr" style="line-height: 1.38\; margin-top: 0pt\; margin-bottom: 0pt\;"><span style="font-size:12px\;"><span style="font-family:arial\;"><strong><span id="docs-internal-guid-8285fd1d-7fff-b37e-87e2-c5d5d6ec9eed"><span style="color:#FF0000\;"><span style="font-variant-numeric: normal\; font-variant-east-asian: normal\; vertical-align: baseline\; white-space: pre-wrap\;">Chamber Members can access Module 1 for </span><span style="font-weight: 700\; font-variant-numeric: normal\; font-variant-east-asian: normal\; vertical-align: baseline\; white-space: pre-wrap\;">only $595</span><span style="font-variant-numeric: normal\; font-variant-east-asian: normal\; vertical-align: baseline\; white-space: pre-wrap\;"> (value of $745).&nbsp\; For more details and to register for this module\, please </span></span><a href="http://business.greaterreading.org/events/details/supervisor-training-module-1-principles-of-supervision-winter-2021-10735" style="text-decoration-line: none\;"><span style="color:#FF0000\;"><span style="font-variant-numeric: normal\; font-variant-east-asian: normal\; text-decoration-line: underline\; text-decoration-skip-ink: none\; vertical-align: baseline\; white-space: pre-wrap\;">click here</span></span></a><span style="color:#FF0000\;"><span style="font-variant-numeric: normal\; font-variant-east-asian: normal\; vertical-align: baseline\; white-space: pre-wrap\;"> to be directed to GRCA&rsquo\;s website. TCACC Members should select &ldquo\;TriCounty Area Chamber of Commerce&rdquo\; when prompted during registration.</span></span></span></strong></span></span></div>\n<br />\n<span style="font-size:12px\;"><span style="font-family:arial\;"><span id="docs-internal-guid-8285fd1d-7fff-b37e-87e2-c5d5d6ec9eed"><span style="color: rgb(34\, 34\, 34)\; background-color: rgb(255\, 255\, 255)\; font-variant-numeric: normal\; font-variant-east-asian: normal\; vertical-align: baseline\; white-space: pre-wrap\;">If you have any questions regarding TCACC&rsquo\;s partnership with the Greater Reading Chamber Alliance in offering this training please contact me at </span><span style="color: rgb(17\, 85\, 204)\; background-color: rgb(255\, 255\, 255)\; font-variant-numeric: normal\; font-variant-east-asian: normal\; vertical-align: baseline\; white-space: pre-wrap\;">eileen@tricountyareachamber.com</span><span style="color: rgb(34\, 34\, 34)\; background-color: rgb(255\, 255\, 255)\; font-variant-numeric: normal\; font-variant-east-asian: normal\; vertical-align: baseline\; white-space: pre-wrap\;"> or 610.326.2900.</span></span></span></span>
LOCATION:Center for Business Excellence 49 Commerce Dr.\, Wyomissing\, PA 19610 OR virtually via Zoom
UID:e.2183.856422
SEQUENCE:3
DTSTAMP:20260419T161919Z
URL:https://business.tricountyareachamber.com/events/details/grca-supervisor-training-module-1-principles-of-supervision-winter-2021-856422
END:VEVENT

END:VCALENDAR
