BEGIN:VCALENDAR
VERSION:2.0
PRODID:-//ChamberMaster//Event Calendar 2.0//EN
METHOD:PUBLISH
X-PUBLISHED-TTL:P3D
REFRESH-INTERVAL:P3D
CALSCALE:GREGORIAN
BEGIN:VEVENT
DTSTART:20210224T133000Z
DTEND:20210224T163000Z
X-MICROSOFT-CDO-ALLDAYEVENT:FALSE
SUMMARY:GRCA Supervisor Training Module 2: Managing Performance & Developing Employees
DESCRIPTION:If this year has shown us anything\, it is the importance of strong leadership - a business cannot navigate unprecedented\, challenging times without an effective leader. We are very excited to be partnering with Greater Reading Chamber Alliance (GRCA) to offer the Supervisor Training certificate program to Chamber Members. If you are preparing an employee to transition into a supervisory role\, this training will equip them with the tools and knowledge necessary to become an effective leader that will navigate your team and company to success. \n\n \n\nModule 2: Managing Performance & Developing Employees kicks off on Wednesday\, February 24 and continues every following Wednesday through March 31. Each session is from 8:30AM to 11:30AM and registrants have the option to attend in-person or virtually - they can skip the commute and learn from the comfort of their office or home! Topics covered in Module 2 include:\n\n\n	Managing a diverse workplace\n	Motivating & recognizing employees\n	Developing & coaching others\n	Delegating effectively\n	Creating performance standards & documenting performance\n	Providing performance feedback\n\n\nGRCA Supervisor Training is split into 3 modules. You are required to complete all 3 (in any order) to\n\nreceive the certificate of completion\, but you may still participate in any of them individually if you are not interested in receiving the certification. TCACC is offering a $300 scholarship to first-time Supervisor Training participants (can only be applied to one module)! Below are starting dates for upcoming modules - each module repeats for 6 weeks:\n\n\n	Module 1: Principles of Supervision - starts Tuesday\, March 2\n	Module 3: Leveraging Workplace Relationships for Organizational Success - starts Wednesday\, April 14\n	Module 2: Managing Performance & Developing Employees - starts Thursday\, April 22\n\nIf you have any questions regarding TCACC's partnership with the Greater Reading Chamber Alliance in offering this training please contact me at eileen@tricountyareachamber.com or 610.326.2900.
X-ALT-DESC;FMTTYPE=text/html:<div dir="ltr" style="line-height: 1.38\; margin-top: 0pt\; margin-bottom: 0pt\;"><span style="font-size:12px\;"><span style="font-family:arial\;"><span id="docs-internal-guid-8285fd1d-7fff-b37e-87e2-c5d5d6ec9eed"><span style="font-variant-numeric: normal\; font-variant-east-asian: normal\; vertical-align: baseline\; white-space: pre-wrap\;">If this year has shown us anything\, it is the importance of strong leadership - a business cannot navigate unprecedented\, challenging times without an effective leader. We are very excited to be partnering with Greater Reading Chamber Alliance (GRCA) to offer the Supervisor Training certificate program to Chamber Members.</span><span style="font-weight: 700\; font-variant-numeric: normal\; font-variant-east-asian: normal\; vertical-align: baseline\; white-space: pre-wrap\;"> If you are preparing an employee to transition into a supervisory role\, this training will equip them with the tools and knowledge necessary to become an effective leader that will navigate your team and company to success.</span><span style="font-variant-numeric: normal\; font-variant-east-asian: normal\; vertical-align: baseline\; white-space: pre-wrap\;"> </span></span></span></span><br />\n&nbsp\;</div>\n\n<div dir="ltr" style="line-height: 1.38\; margin-top: 0pt\; margin-bottom: 0pt\;"><span style="font-size:12px\;"><span style="font-family:arial\;"><span id="docs-internal-guid-8285fd1d-7fff-b37e-87e2-c5d5d6ec9eed"><span style="font-weight: 700\; font-variant-numeric: normal\; font-variant-east-asian: normal\; vertical-align: baseline\; white-space: pre-wrap\;">Module 2: Managing Performance &amp\; Developing Employees kicks off on Wednesday\, February 24 and continues every following Wednesday through March 31. </span><span style="font-variant-numeric: normal\; font-variant-east-asian: normal\; vertical-align: baseline\; white-space: pre-wrap\;">Each session is from 8:30AM to 11:30AM and registrants have the option to attend in-person or virtually - they can skip the commute and learn from the comfort of their office or home! Topics covered in Module 2 include:</span></span></span></span></div>\n\n<ul dir="ltr">\n	<li style="line-height: 1.38\; margin-top: 0pt\; margin-bottom: 0pt\;">Managing a diverse workplace</li>\n	<li style="line-height: 1.38\; margin-top: 0pt\; margin-bottom: 0pt\;">Motivating &amp\; recognizing employees</li>\n	<li style="line-height: 1.38\; margin-top: 0pt\; margin-bottom: 0pt\;">Developing &amp\; coaching others</li>\n	<li style="line-height: 1.38\; margin-top: 0pt\; margin-bottom: 0pt\;">Delegating effectively</li>\n	<li style="line-height: 1.38\; margin-top: 0pt\; margin-bottom: 0pt\;">Creating performance standards &amp\; documenting performance</li>\n	<li style="line-height: 1.38\; margin-top: 0pt\; margin-bottom: 0pt\;">Providing performance feedback</li>\n</ul>\n\n<div dir="ltr" style="line-height: 1.38\; margin-top: 0pt\; margin-bottom: 0pt\;"><strong>GRCA Supervisor Training is split into 3 modules. You are required to complete all 3 (in any order) to<br />\nreceive the certificate of completion\, but you may still participate in any of them individually if you are not interested in receiving the certification.</strong> <span style="color:#FF0000\;"><strong>TCACC is offering a $300 scholarship to first-time Supervisor Training participants (can only be applied to one module)!</strong></span> <strong>Below are starting dates for upcoming modules - each module repeats for 6 weeks:</strong></div>\n\n<ul>\n	<li style="line-height: 1.38\; margin-top: 0pt\; margin-bottom: 0pt\;">Module 1: Principles of Supervision - starts Tuesday\, March 2</li>\n	<li style="line-height: 1.38\; margin-top: 0pt\; margin-bottom: 0pt\;">Module 3: Leveraging Workplace Relationships for Organizational Success - starts Wednesday\, April 14</li>\n	<li style="line-height: 1.38\; margin-top: 0pt\; margin-bottom: 0pt\;">Module 2: Managing Performance &amp\;&nbsp\;Developing Employees - starts Thursday\, April 22</li>\n</ul>\n<span style="font-size:12px\;"><span style="font-family:arial\;"><span id="docs-internal-guid-8285fd1d-7fff-b37e-87e2-c5d5d6ec9eed"><span style="color: rgb(34\, 34\, 34)\; background-color: rgb(255\, 255\, 255)\; font-variant-numeric: normal\; font-variant-east-asian: normal\; vertical-align: baseline\; white-space: pre-wrap\;">If you have any questions regarding TCACC&rsquo\;s partnership with the Greater Reading Chamber Alliance in offering this training please contact me at </span><span style="color: rgb(17\, 85\, 204)\; background-color: rgb(255\, 255\, 255)\; font-variant-numeric: normal\; font-variant-east-asian: normal\; vertical-align: baseline\; white-space: pre-wrap\;">eileen@tricountyareachamber.com</span><span style="color: rgb(34\, 34\, 34)\; background-color: rgb(255\, 255\, 255)\; font-variant-numeric: normal\; font-variant-east-asian: normal\; vertical-align: baseline\; white-space: pre-wrap\;"> or 610.326.2900.</span></span></span></span>
LOCATION:Center for Business Excellence 49 Commerce Dr.\, Wyomissing\, PA 19610 OR virtually via Zoom
UID:e.2183.856455
SEQUENCE:3
DTSTAMP:20260419T161231Z
URL:https://business.tricountyareachamber.com/events/details/grca-supervisor-training-module-2-managing-performance-developing-employees-856455
END:VEVENT

END:VCALENDAR
