BEGIN:VCALENDAR
VERSION:2.0
PRODID:-//ChamberMaster//Event Calendar 2.0//EN
METHOD:PUBLISH
X-PUBLISHED-TTL:P3D
REFRESH-INTERVAL:P3D
CALSCALE:GREGORIAN
BEGIN:VEVENT
DTSTART:20180316T230000Z
DTEND:20180317T020000Z
X-MICROSOFT-CDO-ALLDAYEVENT:FALSE
SUMMARY:Harlem Globetrotters
DESCRIPTION:The Original Harlem Globetrotters are preparing for their action-packed 2018 World Tour against the Washington Generals! A star-studded roster will have fans on the edge of their seats to experience the ball handling wizardry\, basketball artistry and one-of-a-kind family entertainment that thrills fans of all ages. Prepare to be amazed as the Globetrotters showcase basketball's first 4-point line\, located 30 feet from the basket   6 feet\, 3 inches beyond the top of the NBA's current 3-point line. You won't want your family to miss it   buy your tickets today!
X-ALT-DESC;FMTTYPE=text/html:The Original Harlem Globetrotters are preparing for their action-packed 2018 World Tour against the Washington Generals! A star-studded roster will have fans on the edge of their seats to experience the ball handling wizardry\, basketball artistry and one-of-a-kind family entertainment that thrills fans of all ages. Prepare to be amazed as the Globetrotters showcase basketball&rsquo\;s first 4-point line\, located 30 feet from the basket &ndash\; 6 feet\, 3 inches beyond the top of the NBA&rsquo\;s current 3-point line. You won&#39\;t want your family to miss it &ndash\; buy your tickets today!
LOCATION:Santander Arena
UID:e.2183.850238
SEQUENCE:3
DTSTAMP:20260421T123626Z
URL:https://business.tricountyareachamber.com/events/details/harlem-globetrotters-850238
END:VEVENT

END:VCALENDAR
