BEGIN:VCALENDAR
VERSION:2.0
PRODID:-//ChamberMaster//Event Calendar 2.0//EN
METHOD:PUBLISH
X-PUBLISHED-TTL:P3D
REFRESH-INTERVAL:P3D
CALSCALE:GREGORIAN
BEGIN:VEVENT
DTSTART:20260418T210000Z
DTEND:20260418T230000Z
X-MICROSOFT-CDO-ALLDAYEVENT:FALSE
SUMMARY:Harlem Wizards
DESCRIPTION:The Harlem Wizards are coming\n\n\n\nGet ready\, Boyertown   the Harlem Wizards are bringing their high-flying\, rim-rattling\, laugh-out-loud basketball show to town! This isn't just a game   it's an unforgettable night of dazzling tricks\, crowd interaction\, and nonstop family fun as our very own teachers and community members take on the Wizards on the court. From no-look passes to slam dunks (and plenty of hilarious moments in between)\, the Harlem Wizards deliver an experience that brings our entire community together. Grab your tickets\, wear your school spirit\, and get ready for a night of fun that supports our students in a big way! ???
X-ALT-DESC;FMTTYPE=text/html:<h4>The Harlem Wizards are coming</h4>\n\n<div>\n<div>\n<p>Get ready\, Boyertown &mdash\; the Harlem Wizards are bringing their high-flying\, rim-rattling\, laugh-out-loud basketball show to town! This isn&rsquo\;t just a game &mdash\; it&rsquo\;s an unforgettable night of dazzling tricks\, crowd interaction\, and nonstop family fun as our very own teachers and community members take on the Wizards on the court. From no-look passes to slam dunks (and plenty of hilarious moments in between)\, the Harlem Wizards deliver an experience that brings our entire community together. Grab your tickets\, wear your school spirit\, and get ready for a night of fun that supports our students in a big way! ???</p>\n</div>\n</div>\n
LOCATION:Event Information The Harlem Wizards Tip-off is at 5:00 PM\, and doors open at 4:00 PM so you can grab your seats early and soak in the excitement before the Harlem Wizards take the court! Tickets are available online and at the door. Light snacks and hot dogs will be available for purchase\, and be sure to stop by the souvenir stand to pick up fun keepsakes to remember this unforgettable night. ?? When? Saturday\, Apr 18\, 2026\, 05:00 PM Where? Boyertown Area Senior High School\, Monroe Street\, Boyertown\, PA\, USA
UID:e.2183.864589
SEQUENCE:3
DTSTAMP:20260422T153300Z
URL:https://business.tricountyareachamber.com/events/details/harlem-wizards-864589
END:VEVENT

END:VCALENDAR
