BEGIN:VCALENDAR
VERSION:2.0
PRODID:-//ChamberMaster//Event Calendar 2.0//EN
METHOD:PUBLISH
X-PUBLISHED-TTL:P3D
REFRESH-INTERVAL:P3D
CALSCALE:GREGORIAN
BEGIN:VEVENT
DTSTART:20170311T190000Z
DTEND:20170311T210000Z
X-MICROSOFT-CDO-ALLDAYEVENT:FALSE
SUMMARY:Harlem Wizards Come to Boyertown
DESCRIPTION:The Harlem Wizards come to Boyertown Senior High to show off their Hoops\, Oopps and Alley-Oopps to the fans. The Wizards will be facing the Foundation All Stars a team comprised of School District Administration\, Teachers\, Principals and Athletes.
X-ALT-DESC;FMTTYPE=text/html:The Harlem Wizards come to Boyertown Senior High to show off their Hoops\, Oopps and Alley-Oopps to the fans. The Wizards will be facing the Foundation All Stars a team comprised of School District Administration\, Teachers\, Principals and Athletes.
LOCATION:Boyertown Area Senior High Gym
UID:e.2183.847478
SEQUENCE:3
DTSTAMP:20260420T164211Z
URL:https://business.tricountyareachamber.com/events/details/harlem-wizards-come-to-boyertown-847478
END:VEVENT

END:VCALENDAR
