BEGIN:VCALENDAR
VERSION:2.0
PRODID:-//ChamberMaster//Event Calendar 2.0//EN
METHOD:PUBLISH
X-PUBLISHED-TTL:P3D
REFRESH-INTERVAL:P3D
CALSCALE:GREGORIAN
BEGIN:VEVENT
DTSTART:20180118T000000Z
DTEND:20180118T010000Z
X-MICROSOFT-CDO-ALLDAYEVENT:FALSE
SUMMARY:Healing with Nutrition
DESCRIPTION:If your health is not what you want it to be\, this seminar is for you. Master health educator\, Cindy Harrington\, will present an enlightening free seminar to share the healing power of designed clinical nutrition. A complimentary health scan will be offered to each attendee after this event. Contact Center for Nutritional Healing at 484-938-7691 to reserve your seat.
X-ALT-DESC;FMTTYPE=text/html:If your health is not what you want it to be\, this seminar is for you. Master health educator\, Cindy Harrington\, will present an enlightening free seminar to share the healing power of designed clinical nutrition. A complimentary health scan will be offered to each attendee after this event. Contact Center for Nutritional Healing at 484-938-7691 to reserve your seat.
LOCATION:Center for Nutritional Healing 567 Church Street\, Suite C Royersford\, PA 19468
UID:e.2183.849127
SEQUENCE:3
DTSTAMP:20260421T094013Z
URL:https://business.tricountyareachamber.com/events/details/healing-with-nutrition-849127
END:VEVENT

END:VCALENDAR
