BEGIN:VCALENDAR
VERSION:2.0
PRODID:-//ChamberMaster//Event Calendar 2.0//EN
METHOD:PUBLISH
X-PUBLISHED-TTL:P3D
REFRESH-INTERVAL:P3D
CALSCALE:GREGORIAN
BEGIN:VEVENT
DTSTART:20220430T140000Z
DTEND:20220430T160000Z
X-MICROSOFT-CDO-ALLDAYEVENT:FALSE
SUMMARY:Healthy Kids Day
DESCRIPTION:A day dedicated to kids where there is fun\, activities\, showing casing programs and business. We will have vendors to support local business. If any business is interested in being a vendor or any willing to volunteer please reach out to Jonas Floyd @ jfloyd@philaymca.org
X-ALT-DESC;FMTTYPE=text/html:A day dedicated to kids where there is fun\, activities\, showing casing programs and business. We will have vendors to support local business. If any business is interested in being a vendor or any willing to volunteer please reach out to Jonas Floyd @ jfloyd@philaymca.org
LOCATION:724 N Adams Street\, Pottstown\, PA 19464
UID:e.2183.857659
SEQUENCE:3
DTSTAMP:20260424T185215Z
URL:https://business.tricountyareachamber.com/events/details/healthy-kids-day-857659
END:VEVENT

END:VCALENDAR
