BEGIN:VCALENDAR
VERSION:2.0
PRODID:-//ChamberMaster//Event Calendar 2.0//EN
METHOD:PUBLISH
X-PUBLISHED-TTL:P3D
REFRESH-INTERVAL:P3D
CALSCALE:GREGORIAN
BEGIN:VEVENT
DTSTART:20170505T133000Z
DTEND:20170505T173000Z
X-MICROSOFT-CDO-ALLDAYEVENT:FALSE
SUMMARY:Healthy Lifestyles Expo
DESCRIPTION:Rep. Tom Quigley will be hosting his Annual Healthy Lifestyles Expo on Friday\, May 5!\n\n\n\n"The expo is a convenient way to learn about programs and services designed to help the mature members of our community. Rather than trying to locate the appropriate agencies and then spend time on hold\, I invite everyone to gather information in person\," Quigley said. "Experts will be available to provide information and materials that can be taken home to read later."\n\n\n\nIn addition to a variety of nonprofit organizations and public programs operated at the local\, county\, and state and federal levels\, many area hospitals will also be on hand.\n\n\n\nHealth screenings and lunch will be offered for free to those who attend. Workshops will also be available on topics such as protecting against fraud\, estate planning basics and fall prevention tips.
X-ALT-DESC;FMTTYPE=text/html:Rep. Tom Quigley will be hosting his Annual Healthy Lifestyles Expo on Friday\, May 5!<br />\n<br />\n&quot\;The expo is a convenient way to learn about programs and services designed to help the mature members of our community. Rather than trying to locate the appropriate agencies and then spend time on hold\, I invite everyone to gather information in person\,&quot\; Quigley said. &quot\;Experts will be available to provide information and materials that can be taken home to read later.&quot\;<br />\n<br />\nIn addition to a variety of nonprofit organizations and public programs operated at the local\, county\, and state and federal levels\, many area hospitals will also be on hand.<br />\n<br />\nHealth screenings and lunch will be offered for free to those who attend. Workshops will also be available on topics such as protecting against fraud\, estate planning basics and fall prevention tips.&nbsp\;
LOCATION:Sunnybrook Ballroom 50 Sunnybrook Road Pottsown\, PA 19464
UID:e.2183.847642
SEQUENCE:3
DTSTAMP:20260420T200208Z
URL:https://business.tricountyareachamber.com/events/details/healthy-lifestyles-expo-847642
END:VEVENT

END:VCALENDAR
