BEGIN:VCALENDAR
VERSION:2.0
PRODID:-//ChamberMaster//Event Calendar 2.0//EN
METHOD:PUBLISH
X-PUBLISHED-TTL:P3D
REFRESH-INTERVAL:P3D
CALSCALE:GREGORIAN
BEGIN:VEVENT
DTSTART:20180207T163000Z
DTEND:20180207T190000Z
X-MICROSOFT-CDO-ALLDAYEVENT:FALSE
SUMMARY:High Tea @ the Restaurant
DESCRIPTION:Looking for a lunch time getaway with friends? Join us on February 7\, 2018 at 11:30 for our High Tea Event!! $15 (plus tax\, all inclusive) gets you a cup of soup\, quiche\, composed salad\, and three tiered tray of finger sandwiches and goodies! Let's not forget our assortment of fresh loose leaf teas! This can all be yours by calling 610-489-7272 x 135 to make your reservation. Seating is limited so call now to get yours!!!
X-ALT-DESC;FMTTYPE=text/html:<div><span background-color:="" font-size:="" pt="" style="color: rgb(48\, 48\, 48)\; font-family: OpenSans-Regular\, OpenSans\, " text-align:="">Looking for a lunch time getaway with friends? Join us on February 7\,&nbsp\;2018 at 11:30 for our High Tea Event!! $15 (plus tax\, all inclusive) gets you a cup of soup\, quiche\, composed salad\, and three tiered tray of finger sandwiches and goodies! Let&rsquo\;s not forget our assortment of fresh loose leaf teas! This can all be yours by calling 610-489-7272 x 135 to make your reservation. Seating is limited so call now to get yours!!!</span></div>\n
LOCATION:Western Montgomery Career & Technology Center 77 Graterford Road Limerick\, PA 19468
UID:e.2183.849158
SEQUENCE:3
DTSTAMP:20260421T110316Z
URL:https://business.tricountyareachamber.com/events/details/high-tea-the-restaurant-849158
END:VEVENT

END:VCALENDAR
