BEGIN:VCALENDAR
VERSION:2.0
PRODID:-//ChamberMaster//Event Calendar 2.0//EN
METHOD:PUBLISH
X-PUBLISHED-TTL:P3D
REFRESH-INTERVAL:P3D
CALSCALE:GREGORIAN
BEGIN:VEVENT
DTSTART:20171104T120000Z
DTEND:20171104T180000Z
X-MICROSOFT-CDO-ALLDAYEVENT:FALSE
SUMMARY:Holiday Bazaar
DESCRIPTION:Local artist\, Julie Longacre be present and will have her 2017 Christmas cards\, Christmas tree prints\, note cards and more for sale! Handmade craft items by local crafters include pillows\, soaps\, jewelry\, centerpieces\, honey & wax candles and more! We will also have a Flea Market\, Silent Auction\, Basket Raffle and Bake Sale! A light lunch will be available for purchase from 10:00 AM - 1:00 PM.
X-ALT-DESC;FMTTYPE=text/html:Local artist\, Julie Longacre be present and will have her 2017 Christmas cards\, Christmas tree prints\, note cards and more for sale! Handmade craft items by local crafters include pillows\, soaps\, jewelry\, centerpieces\, honey &amp\; wax candles and more! We will also have a Flea Market\, Silent Auction\, Basket Raffle and Bake Sale! A light lunch will be available for purchase from 10:00 AM - 1:00 PM.
LOCATION:The Center at Spring Street 200 West Spring Street Boyertown\, PA 19512
UID:e.2183.848827
SEQUENCE:3
DTSTAMP:20260421T060747Z
URL:https://business.tricountyareachamber.com/events/details/holiday-bazaar-11-04-2017-848827
END:VEVENT

END:VCALENDAR
