BEGIN:VCALENDAR
VERSION:2.0
PRODID:-//ChamberMaster//Event Calendar 2.0//EN
METHOD:PUBLISH
X-PUBLISHED-TTL:P3D
REFRESH-INTERVAL:P3D
CALSCALE:GREGORIAN
BEGIN:VEVENT
DTSTART:20171104T170000Z
DTEND:20171104T210000Z
X-MICROSOFT-CDO-ALLDAYEVENT:FALSE
SUMMARY:Holiday Bazaar
DESCRIPTION:Holidays are right around the corner\, why not get a head start with great gifts or stocking stuffers! We are pleased to say we are hosting a Holiday bazaar at our salon along with a few other local businesses! COMPLETELY FREE\, NO OBLIGATIONS \n\n  LuLaRoe Valene Lawerence\n\n  Mia Bella Natural Wax Candles\n\n Jamberry\n\n Once Upon a Gift\n\n Craft Creative Treasures\n\n Creekside Family Creations\n\n Origami Owls Custom Jewelry\n\n Aromatic Garden\n\n JoAnne's Primitives\n\n\n\nEarn $5.00 in Holiday beauty bucks from Virtual Essense Hair Designs just by stopping in\, which can be redeemed in salon towards any service! Additional parking at Twin Ponds Golf Course\, there will be a car to transport to and from.
X-ALT-DESC;FMTTYPE=text/html:Holidays are right around the corner\, why not get a head start with great gifts or stocking stuffers! We are pleased to say we are hosting a Holiday bazaar at our salon along with a few other local businesses! <strong>COMPLETELY FREE\, NO OBLIGATIONS </strong><br />\n&bull\; LuLaRoe Valene Lawerence<br />\n&bull\; Mia Bella Natural Wax Candles<br />\n&bull\;Jamberry<br />\n&bull\;Once Upon a Gift<br />\n&bull\;Craft Creative Treasures<br />\n&bull\;Creekside Family Creations<br />\n&bull\;Origami Owls Custom Jewelry<br />\n&bull\;Aromatic Garden<br />\n&bull\;JoAnne&#39\;s Primitives<br />\n<br />\nEarn $5.00 in Holiday beauty bucks from Virtual Essense Hair Designs just by stopping in\, which can be redeemed in salon towards any service! Additional parking at Twin Ponds Golf Course\, there will be a car to transport to and from.
LOCATION:629 Gilbertsville Road Gilbertsville\, PA 19525
UID:e.2183.848824
SEQUENCE:3
DTSTAMP:20260421T060640Z
URL:https://business.tricountyareachamber.com/events/details/holiday-bazaar-848824
END:VEVENT

END:VCALENDAR
