BEGIN:VCALENDAR
VERSION:2.0
PRODID:-//ChamberMaster//Event Calendar 2.0//EN
METHOD:PUBLISH
X-PUBLISHED-TTL:P3D
REFRESH-INTERVAL:P3D
CALSCALE:GREGORIAN
BEGIN:VEVENT
DTSTART:20171210T160000Z
DTEND:20171210T190000Z
X-MICROSOFT-CDO-ALLDAYEVENT:FALSE
SUMMARY:Holiday Brunch
DESCRIPTION:Join the local restaurants as they join together @107 for a delectable\, Holiday Brunch! \n\nThis includes an Omelette Station (By Grumpy's) and more!
X-ALT-DESC;FMTTYPE=text/html:Join the local restaurants as they join together @107 for a delectable\, Holiday Brunch!&nbsp\;<br />\nThis includes an Omelette Station (By Grumpy&#39\;s) and more!
LOCATION:107 E High St Pottstown\, PA 19464
UID:e.2183.848895
SEQUENCE:3
DTSTAMP:20260421T093900Z
URL:https://business.tricountyareachamber.com/events/details/holiday-brunch-848895
END:VEVENT

END:VCALENDAR
