BEGIN:VCALENDAR
VERSION:2.0
PRODID:-//ChamberMaster//Event Calendar 2.0//EN
METHOD:PUBLISH
X-PUBLISHED-TTL:P3D
REFRESH-INTERVAL:P3D
CALSCALE:GREGORIAN
BEGIN:VEVENT
DTSTART:20161105T130000Z
DTEND:20161105T190000Z
X-MICROSOFT-CDO-ALLDAYEVENT:FALSE
SUMMARY:Holiday Craft Show and Bazaar
DESCRIPTION:Fall is here and the annual Holiday Craft Show and Bazaar is just around the corner! Stop by on Saturday\, November 5th from 9am-3pm for over 60 tables of handmade crafts\, attic treasures\, a book sale\, lunch\, and homemade baked goods! All events will be held in the Family Life Center. The craft show will be in the auditorium\, bake sale in the lobby\, and lunch in Fellowship Hall. Attic treasures and the book sale will be downstairs in rooms 102 through 108 from 8am to noon. Free admission and parking\, so come on out! Our facility is handicap accessible.
X-ALT-DESC;FMTTYPE=text/html:Fall is here and the annual Holiday Craft Show and Bazaar is just around the corner! Stop by on Saturday\, November 5th from 9am-3pm for over 60 tables of handmade crafts\, attic treasures\, a book sale\, lunch\, and homemade baked goods! All events will be held in the Family Life Center. The craft show will be in the auditorium\, bake sale in the lobby\, and lunch in Fellowship Hall. Attic treasures and the book sale will be downstairs in rooms 102 through 108 from 8am to noon. Free admission and parking\, so come on out! Our facility is handicap accessible.
LOCATION:Cedarville United Methodist Church 1092 Laurelwood RD\, Pottstown\, PA 19465
UID:e.2183.847247
SEQUENCE:3
DTSTAMP:20260422T113141Z
URL:https://business.tricountyareachamber.com/events/details/holiday-craft-show-and-bazaar-847247
END:VEVENT

END:VCALENDAR
