BEGIN:VCALENDAR
VERSION:2.0
PRODID:-//ChamberMaster//Event Calendar 2.0//EN
METHOD:PUBLISH
X-PUBLISHED-TTL:P3D
REFRESH-INTERVAL:P3D
CALSCALE:GREGORIAN
BEGIN:VEVENT
DTSTART:20241123T150000Z
DTEND:20241123T210000Z
X-MICROSOFT-CDO-ALLDAYEVENT:FALSE
SUMMARY:Holiday Open House
DESCRIPTION:Join us at Keystone Villa at Douglassville\, in the personal and memory care building\, during our Holiday Open House. Meet some of our team members and experience our close-knit community.
X-ALT-DESC;FMTTYPE=text/html:Join us at Keystone Villa at Douglassville\, in the personal and memory care building\, during our Holiday Open House. Meet some of our team members and experience our close-knit community.
LOCATION:1152 Ben Franklin Highway E.\, Douglassville\, PA 19518
UID:e.2183.861579
SEQUENCE:3
DTSTAMP:20260421T144615Z
URL:https://business.tricountyareachamber.com/events/details/holiday-open-house-11-23-2024-861579
END:VEVENT

END:VCALENDAR
