BEGIN:VCALENDAR
VERSION:2.0
PRODID:-//ChamberMaster//Event Calendar 2.0//EN
METHOD:PUBLISH
X-PUBLISHED-TTL:P3D
REFRESH-INTERVAL:P3D
CALSCALE:GREGORIAN
BEGIN:VEVENT
DTSTART:20171128T200000Z
DTEND:20171129T010000Z
X-MICROSOFT-CDO-ALLDAYEVENT:FALSE
SUMMARY:Holiday Open House
DESCRIPTION:Enjoy:\n\n	$5 Mini Services\n	Gift Card Specials\n	Buy 2 Products\, Get 3rd Free\n	Door Prizes\n	Special Vendors: Damsel in Defense\; LuLa Roe\; Rabbit Soap
X-ALT-DESC;FMTTYPE=text/html:Enjoy:\n<ul>\n	<li>$5 Mini Services</li>\n	<li>Gift Card Specials</li>\n	<li>Buy 2 Products\, Get 3rd Free</li>\n	<li>Door Prizes</li>\n	<li>Special Vendors: Damsel in Defense\; LuLa Roe\; Rabbit Soap</li>\n</ul>\n
LOCATION:Reflections Hair Designs 939 E. Schuylkill Rd. Pottstown\, PA 19465
UID:e.2183.849106
SEQUENCE:3
DTSTAMP:20260421T080200Z
URL:https://business.tricountyareachamber.com/events/details/holiday-open-house-849106
END:VEVENT

END:VCALENDAR
