BEGIN:VCALENDAR
VERSION:2.0
PRODID:-//ChamberMaster//Event Calendar 2.0//EN
METHOD:PUBLISH
X-PUBLISHED-TTL:P3D
REFRESH-INTERVAL:P3D
CALSCALE:GREGORIAN
BEGIN:VEVENT
DTSTART:20171211T223000Z
DTEND:20171212T020000Z
X-MICROSOFT-CDO-ALLDAYEVENT:FALSE
SUMMARY:Holiday Open House
DESCRIPTION:Season's Greetings!\n\n\n\nJoin us for a Holiday Open House beginning at 5:30 PM. Pottsgrove's Community Band will begin playing at 7 PM.
X-ALT-DESC;FMTTYPE=text/html:Season&#39\;s Greetings!<br />\n<br />\nJoin us for a Holiday Open House beginning at 5:30 PM. Pottsgrove&#39\;s Community Band will begin playing at 7 PM.
LOCATION:Keystone Villa at Douglassville 1180 Ben Franklin Hwy East Douglassville\, PA 19518
UID:e.2183.849113
SEQUENCE:3
DTSTAMP:20260421T094041Z
URL:https://business.tricountyareachamber.com/events/details/holiday-open-house-849113
END:VEVENT

END:VCALENDAR
