BEGIN:VCALENDAR
VERSION:2.0
PRODID:-//ChamberMaster//Event Calendar 2.0//EN
METHOD:PUBLISH
X-PUBLISHED-TTL:P3D
REFRESH-INTERVAL:P3D
CALSCALE:GREGORIAN
BEGIN:VEVENT
DTSTART:20211027T220000Z
DTEND:20211027T230000Z
X-MICROSOFT-CDO-ALLDAYEVENT:FALSE
SUMMARY:Home for the Holidays?
DESCRIPTION:Seminar - How to Safely Include Family Members with Dementia in Holiday Celebrations. Enjoy an informative presentation of "best practices" to support families grappling with these and other questions. Presented by our Compass Memory Care team in partnership with Rendever. Learn how to include your loved ones during this special time of the year\, whether in-person or virtually! Discover the Compass Memory Care philosophies & how the amazing technologies of Rendever can support families during the holidays. Q & A\, Hands-on demos & light refreshments.
X-ALT-DESC;FMTTYPE=text/html:Seminar - How to Safely Include Family Members with Dementia in Holiday Celebrations. Enjoy an informative presentation of &quot\;best practices&quot\; to support families grappling with these and other questions. Presented by our Compass Memory Care team in partnership with Rendever. Learn how to include your loved ones during this special time of the year\, whether in-person or virtually! Discover the Compass Memory Care philosophies &amp\; how the amazing technologies of Rendever can support families during the holidays. Q &amp\; A\, Hands-on demos &amp\; light refreshments.
LOCATION:Arcadia at Limerick Pointe 51 W. Arcadia Drive Limerick\, PA 19468
UID:e.2183.856854
SEQUENCE:3
DTSTAMP:20260422T085403Z
URL:https://business.tricountyareachamber.com/events/details/home-for-the-holidays-856854
END:VEVENT

END:VCALENDAR
