BEGIN:VCALENDAR
VERSION:2.0
PRODID:-//ChamberMaster//Event Calendar 2.0//EN
METHOD:PUBLISH
X-PUBLISHED-TTL:P3D
REFRESH-INTERVAL:P3D
CALSCALE:GREGORIAN
BEGIN:VEVENT
DTSTART:20161113T003000Z
DTEND:20161113T023000Z
X-MICROSOFT-CDO-ALLDAYEVENT:FALSE
SUMMARY:Hot Club of Philadelphia
DESCRIPTION:The Hot Club of Philadelphia was started in 2001 by guitarist Barry Wahrhaftig. They are an acoustic ensemble\, dedicated to playing 'Gypsy Jazz.' That's the term used to describe the music pioneered by the legendary original 'Hot Club of France Quintet\,' which was led by guitarist Django Reinhardt and Violinist Stephane Grappelli. Django and Grappelli were attempting to do their own version of American 'Hot Jazz\,' as played by stars like Louis Armstrong and Duke Ellington. They used acoustic guitars\, bass and violin\, rather than horns and drums. Grappelli and Django added some French and Gypsy flavor and created a blend of music that is quite popular and accessible. The Hot Club of Philly mixes the original style of the Hot Club of France\, along with their own modern influences.
X-ALT-DESC;FMTTYPE=text/html:The Hot Club of Philadelphia was started in 2001 by guitarist Barry Wahrhaftig. They are an acoustic ensemble\, dedicated to playing &lsquo\;Gypsy Jazz.&rsquo\; That&rsquo\;s the term used to describe the music pioneered by the legendary original &lsquo\;Hot Club of France Quintet\,&rsquo\; which was led by guitarist Django Reinhardt and Violinist Stephane Grappelli. Django and Grappelli were attempting to do their own version of American &lsquo\;Hot Jazz\,&rsquo\; as played by stars like Louis Armstrong and Duke Ellington. They used acoustic guitars\, bass and violin\, rather than horns and drums. Grappelli and Django added some French and Gypsy flavor and created a blend of music that is quite popular and accessible. The Hot Club of Philly mixes the original style of the Hot Club of France\, along with their own modern influences.
LOCATION:Community Music School 775 W Main Street Trappe\, PA 19426
UID:e.2183.846033
SEQUENCE:3
DTSTAMP:20260422T113655Z
URL:https://business.tricountyareachamber.com/events/details/hot-club-of-philadelphia-11-12-2016-846033
END:VEVENT

END:VCALENDAR
