BEGIN:VCALENDAR
VERSION:2.0
PRODID:-//ChamberMaster//Event Calendar 2.0//EN
METHOD:PUBLISH
X-PUBLISHED-TTL:P3D
REFRESH-INTERVAL:P3D
CALSCALE:GREGORIAN
BEGIN:VEVENT
DTSTART:20180316T140000Z
DTEND:20180316T190000Z
X-MICROSOFT-CDO-ALLDAYEVENT:FALSE
SUMMARY:Hot Dog & Bake Sale
DESCRIPTION:St. Patrick's Day Treats - pick up a quick lunch of a sweet bite!\n\n\n\nAll proceeds benefit the American Cancer Society Relay for Life.
X-ALT-DESC;FMTTYPE=text/html:St. Patrick&#39\;s Day Treats - pick up a quick lunch of a sweet bite!<br />\n<br />\nAll proceeds benefit the American Cancer Society Relay for Life.&nbsp\;
LOCATION:Diamond Credit Union Pottstown Branch Atrium 1600 Medical Drive Pottstown\, PA 19464
UID:e.2183.850230
SEQUENCE:3
DTSTAMP:20260421T124001Z
URL:https://business.tricountyareachamber.com/events/details/hot-dog-bake-sale-850230
END:VEVENT

END:VCALENDAR
