BEGIN:VCALENDAR
VERSION:2.0
PRODID:-//ChamberMaster//Event Calendar 2.0//EN
METHOD:PUBLISH
X-PUBLISHED-TTL:P3D
REFRESH-INTERVAL:P3D
CALSCALE:GREGORIAN
BEGIN:VEVENT
DTSTART:20200602T130000Z
DTEND:20200602T140000Z
X-MICROSOFT-CDO-ALLDAYEVENT:FALSE
SUMMARY:"How to Get the Most Out of Facebook"
DESCRIPTION:Are you leaving Facebook features on the table and not using them to your advantage?  Drew will highlight using Facebook Live\, creating automated Facebook page welcome message\, how to link your Instagram account to your Facebook business page\, creating Facebook events and so much more!
X-ALT-DESC;FMTTYPE=text/html:<span style="font-size: 16px\;"><span style="text-align: left\; color: rgb(0\, 0\, 0)\; text-transform: none\; text-indent: 0px\; letter-spacing: normal\; font-family: &quot\;Open Sans&quot\;\, sans-serif\; font-style: normal\; font-weight: 400\; word-spacing: 0px\; float: none\; display: inline !important\; white-space: pre-wrap\; orphans: 2\; widows: 2\; background-color: rgb(255\, 255\, 255)\; font-variant-ligatures: normal\; font-variant-caps: normal\; -webkit-text-stroke-width: 0px\; text-decoration-style: initial\; text-decoration-color: initial\;">Are you leaving Facebook features on the table and not using them to your advantage?&nbsp\; Drew will highlight using Facebook Live\, creating automated Facebook page welcome message\, how to link your Instagram account to your Facebook business page\, creating Facebook events and so much more!</span></span>
LOCATION:Virtual Event Zoom participation instructions will be sent to those registered prior to the event.
UID:e.2183.855787
SEQUENCE:3
DTSTAMP:20260422T080940Z
URL:https://business.tricountyareachamber.com/events/details/how-to-get-the-most-out-of-facebook-855787
END:VEVENT

END:VCALENDAR
