BEGIN:VCALENDAR
VERSION:2.0
PRODID:-//ChamberMaster//Event Calendar 2.0//EN
METHOD:PUBLISH
X-PUBLISHED-TTL:P3D
REFRESH-INTERVAL:P3D
CALSCALE:GREGORIAN
BEGIN:VEVENT
DTSTART:20161116T000000Z
DTEND:20161116T013000Z
X-MICROSOFT-CDO-ALLDAYEVENT:FALSE
SUMMARY:How to Naturally Heal Back Pain and Sciatica for Good with Dr. Charlie John...
DESCRIPTION:Learn to Manage Lower Back Pain & Sciatica Without Medication\, Injections\, or Surgery This free workshop is for you if: You've missed work due to back pain or sciatica You missed out on family vacation or activities you love because you're afraid of aggravating your sciatica You found yourself worrying more about your pain\, numbness\, and tingling rather than living your life You've tried everything and just want to get back to normal As a special bonus\, all people who attend the workshop will receive a free copy of Dr. Charlie Johnson's "Itty Bitty Book About Lower Back Pain." RSVP: https://www.eventbrite.com/e/how-to-naturally-heal-back-pain-and-sciatica-for-good-with-dr-charlie-johnson-tickets-28365511007 Dr. Charlie Johnson will be running the workshop and is a local expert in the treatment of lower back pain and sciatica  He helps people get back to normal and heal naturally. This workshop is free and open to the public. A $5 donation to Pillars of Light and Love is appreciated. What we do Pillars of Light and Love is a non-profit launched in 2015 by business owner Kathy Opperman. The main focus of the non-profit is Stress and Life Management for all ages. Our goal is to educate children\, teens and adults to reduce stress\, have strong self-esteem\, overcome anxiety\, build confidence\, and achieve effective coping techniques\, positive communication skills\, and healthy relationships. Donations raised for Pillars fund workshops and provide free stress relief services to those in need. Applications for free services are acquired through Staff@PillarsofLightandLove.org. Learn more: www.PillarsOfLightandLove.org
X-ALT-DESC;FMTTYPE=text/html:Learn to Manage Lower Back Pain &amp\; Sciatica Without Medication\, Injections\, or Surgery This free workshop is for you if: You&rsquo\;ve missed work due to back pain or sciatica You missed out on family vacation or activities you love because you&rsquo\;re afraid of aggravating your sciatica You found yourself worrying more about your pain\, numbness\, and tingling rather than living your life You&rsquo\;ve tried everything and just want to get back to normal As a special bonus\, all people who attend the workshop will receive a free copy of Dr. Charlie Johnson&rsquo\;s &ldquo\;Itty Bitty Book About Lower Back Pain.&rdquo\; RSVP: <a href="https://www.eventbrite.com/e/how-to-naturally-heal-back-pain-and-sciatica-for-good-with-dr-charlie-johnson-tickets-28365511007">https://www.eventbrite.com/e/how-to-naturally-heal-back-pain-and-sciatica-for-good-with-dr-charlie-johnson-tickets-28365511007</a> Dr. Charlie Johnson will be running the workshop and is a local expert in the treatment of lower back pain and sciatica&hellip\; He helps people get back to normal and heal naturally. This workshop is free and open to the public. A $5 donation to Pillars of Light and Love is appreciated. What we do Pillars of Light and Love is a non-profit launched in 2015 by business owner Kathy Opperman. The main focus of the non-profit is Stress and Life Management for all ages. Our goal is to educate children\, teens and adults to reduce stress\, have strong self-esteem\, overcome anxiety\, build confidence\, and achieve effective coping techniques\, positive communication skills\, and healthy relationships. Donations raised for Pillars fund workshops and provide free stress relief services to those in need. Applications for free services are acquired through Staff@PillarsofLightandLove.org. Learn more: www.PillarsOfLightandLove.org
LOCATION:The Empowering U Center 511 W. Main St. Trappe\, Pa 19426
UID:e.2183.847282
SEQUENCE:3
DTSTAMP:20260422T114243Z
URL:https://business.tricountyareachamber.com/events/details/how-to-naturally-heal-back-pain-and-sciatica-for-good-with-dr-charlie-john-847282
END:VEVENT

END:VCALENDAR
