BEGIN:VCALENDAR
VERSION:2.0
PRODID:-//ChamberMaster//Event Calendar 2.0//EN
METHOD:PUBLISH
X-PUBLISHED-TTL:P3D
REFRESH-INTERVAL:P3D
CALSCALE:GREGORIAN
BEGIN:VEVENT
DTSTART:20210615T153000Z
DTEND:20210615T163000Z
X-MICROSOFT-CDO-ALLDAYEVENT:FALSE
SUMMARY:How to Navigate the SBA to Obtain Financing
DESCRIPTION:The Small Business Administration offers potential borrowers direction in finding a lender\, and guidance on what their responsibilities may be.\n\n\n\nIn this webinar\, potential borrowers will learn:\n\n\n\n- Which SBA Lenders right for you (Lender Match\, and how about your current financial institution)\n\n\n\n- What are Micro Lenders\, and what do they offer?\n\n\n\n- What's the difference between 7a and 504 loans?\n\n\n\n- Other SBA resources available online to prepare for meeting with a lender   a great place to begin your homework.\n\n\n\nThis is a FREE webinar!
X-ALT-DESC;FMTTYPE=text/html:<span style="color: rgb(35\, 35\, 51)\; font-family: Lato\, Helvetica\, Arial\; font-size: 14px\; background-color: rgb(255\, 255\, 255)\;">The Small Business Administration offers potential borrowers direction in finding a lender\, and guidance on what their responsibilities may be.</span><br style="box-sizing: border-box\; color: rgb(35\, 35\, 51)\; font-family: Lato\, Helvetica\, Arial\; font-size: 14px\; background-color: rgb(255\, 255\, 255)\;" />\n<br style="box-sizing: border-box\; color: rgb(35\, 35\, 51)\; font-family: Lato\, Helvetica\, Arial\; font-size: 14px\; background-color: rgb(255\, 255\, 255)\;" />\n<span style="color: rgb(35\, 35\, 51)\; font-family: Lato\, Helvetica\, Arial\; font-size: 14px\; background-color: rgb(255\, 255\, 255)\;">In this webinar\, potential borrowers will learn:</span><br style="box-sizing: border-box\; color: rgb(35\, 35\, 51)\; font-family: Lato\, Helvetica\, Arial\; font-size: 14px\; background-color: rgb(255\, 255\, 255)\;" />\n<br style="box-sizing: border-box\; color: rgb(35\, 35\, 51)\; font-family: Lato\, Helvetica\, Arial\; font-size: 14px\; background-color: rgb(255\, 255\, 255)\;" />\n<span style="color: rgb(35\, 35\, 51)\; font-family: Lato\, Helvetica\, Arial\; font-size: 14px\; background-color: rgb(255\, 255\, 255)\;">- Which SBA Lenders right for you (Lender Match\, and how about your current financial institution)</span><br style="box-sizing: border-box\; color: rgb(35\, 35\, 51)\; font-family: Lato\, Helvetica\, Arial\; font-size: 14px\; background-color: rgb(255\, 255\, 255)\;" />\n<br style="box-sizing: border-box\; color: rgb(35\, 35\, 51)\; font-family: Lato\, Helvetica\, Arial\; font-size: 14px\; background-color: rgb(255\, 255\, 255)\;" />\n<span style="color: rgb(35\, 35\, 51)\; font-family: Lato\, Helvetica\, Arial\; font-size: 14px\; background-color: rgb(255\, 255\, 255)\;">- What are Micro Lenders\, and what do they offer?</span><br style="box-sizing: border-box\; color: rgb(35\, 35\, 51)\; font-family: Lato\, Helvetica\, Arial\; font-size: 14px\; background-color: rgb(255\, 255\, 255)\;" />\n<br style="box-sizing: border-box\; color: rgb(35\, 35\, 51)\; font-family: Lato\, Helvetica\, Arial\; font-size: 14px\; background-color: rgb(255\, 255\, 255)\;" />\n<span style="color: rgb(35\, 35\, 51)\; font-family: Lato\, Helvetica\, Arial\; font-size: 14px\; background-color: rgb(255\, 255\, 255)\;">- What&rsquo\;s the difference between 7a and 504 loans?</span><br style="box-sizing: border-box\; color: rgb(35\, 35\, 51)\; font-family: Lato\, Helvetica\, Arial\; font-size: 14px\; background-color: rgb(255\, 255\, 255)\;" />\n<br style="box-sizing: border-box\; color: rgb(35\, 35\, 51)\; font-family: Lato\, Helvetica\, Arial\; font-size: 14px\; background-color: rgb(255\, 255\, 255)\;" />\n<span style="color: rgb(35\, 35\, 51)\; font-family: Lato\, Helvetica\, Arial\; font-size: 14px\; background-color: rgb(255\, 255\, 255)\;">- Other SBA resources available online to prepare for meeting with a lender &ndash\; a great place to begin your homework.</span><br style="box-sizing: border-box\; color: rgb(35\, 35\, 51)\; font-family: Lato\, Helvetica\, Arial\; font-size: 14px\; background-color: rgb(255\, 255\, 255)\;" />\n<br style="box-sizing: border-box\; color: rgb(35\, 35\, 51)\; font-family: Lato\, Helvetica\, Arial\; font-size: 14px\; background-color: rgb(255\, 255\, 255)\;" />\n<span style="color: rgb(35\, 35\, 51)\; font-family: Lato\, Helvetica\, Arial\; font-size: 14px\; background-color: rgb(255\, 255\, 255)\;">This is a FREE webinar!</span>
LOCATION:Webinar
UID:e.2183.856656
SEQUENCE:3
DTSTAMP:20260421T144717Z
URL:https://business.tricountyareachamber.com/events/details/how-to-navigate-the-sba-to-obtain-financing-856656
END:VEVENT

END:VCALENDAR
