BEGIN:VCALENDAR
VERSION:2.0
PRODID:-//ChamberMaster//Event Calendar 2.0//EN
METHOD:PUBLISH
X-PUBLISHED-TTL:P3D
REFRESH-INTERVAL:P3D
CALSCALE:GREGORIAN
BEGIN:VEVENT
DTSTART:20171016T223000Z
DTEND:20171017T013000Z
X-MICROSOFT-CDO-ALLDAYEVENT:FALSE
SUMMARY:How to reach your goals and dreams
DESCRIPTION:Join us for a FREE financial seminar to learn about: The three different savings accounts you need Becoming an owner instead of a loaner Compound interest and how it helps your money grow Long term retirement savings strategies Tax deferred vs taxable investments The high cost of waiting to save Asset protection and asset transfer strategies Guest Speakers Include: Regional Director\, Legg Mason Regional Director\, Lockwood Financial Regional Director\, Lincoln Financial
X-ALT-DESC;FMTTYPE=text/html:Join us for a FREE financial seminar to learn about: The three different savings accounts you need Becoming an owner instead of a loaner Compound interest and how it helps your money grow Long term retirement savings strategies Tax deferred vs taxable investments The high cost of waiting to save Asset protection and asset transfer strategies Guest Speakers Include: Regional Director\, Legg Mason Regional Director\, Lockwood Financial Regional Director\, Lincoln Financial
LOCATION:Primerica Financial Services 1341 Sandy Hill Road\, Suite 101 Norristown\, Pa 19041
UID:e.2183.848794
SEQUENCE:3
DTSTAMP:20260421T042831Z
URL:https://business.tricountyareachamber.com/events/details/how-to-reach-your-goals-and-dreams-848794
END:VEVENT

END:VCALENDAR
