BEGIN:VCALENDAR
VERSION:2.0
PRODID:-//ChamberMaster//Event Calendar 2.0//EN
METHOD:PUBLISH
X-PUBLISHED-TTL:P3D
REFRESH-INTERVAL:P3D
CALSCALE:GREGORIAN
BEGIN:VEVENT
DTSTART:20230721T150000Z
DTEND:20230721T190000Z
X-MICROSOFT-CDO-ALLDAYEVENT:FALSE
SUMMARY:Ice Cream Social
DESCRIPTION:In honor of National Ice Cream Month\, join us for a moment to "Chill at the Chamber" with the TriCounty Area Chamber staff\, Board of Directors\, and fellow Chamber Members.  This Ice Cream Social is an open networking event.  Stop in for an ice cream and a chance to chat with other Members.  \n\n\n\nWe're offering 3 time slots to attend during this event.  Upon registration\, please select the time you can join us.\n\n	        11 a.m.- 12 p.m.\n	        12:30 p.m.- 1:30 p.m.\n	        2:00 p.m. - 3:00 p.m.
X-ALT-DESC;FMTTYPE=text/html:<span style="font-size:18px\;">In honor of National Ice Cream Month\, join us for a moment to &quot\;Chill at the Chamber&quot\; with the TriCounty Area Chamber staff\, Board of Directors\, and fellow Chamber Members.&nbsp\; This Ice Cream Social is an open networking event.&nbsp\; Stop in for an ice cream and a chance to chat with other Members.&nbsp\;&nbsp\;<br />\n<br />\nWe&#39\;re offering 3 time slots to attend during this event.&nbsp\; Upon registration\, please select the time you can join us.</span>\n<ul>\n	<li><span style="font-size:18px\;">&nbsp\;&nbsp\;&nbsp\;&nbsp\;&nbsp\; &nbsp\; 11 a.m.- 12 p.m.</span></li>\n	<li><span style="font-size:18px\;">&nbsp\;&nbsp\;&nbsp\;&nbsp\;&nbsp\; &nbsp\; 12:30 p.m.- 1:30 p.m.</span></li>\n	<li><span style="font-size:18px\;">&nbsp\;&nbsp\;&nbsp\;&nbsp\;&nbsp\; &nbsp\; 2:00 p.m. - 3:00 p.m.</span></li>\n</ul>\n<br />\n&nbsp\;
LOCATION:TriCounty Area Chamber
UID:e.2183.858872
SEQUENCE:3
DTSTAMP:20260420T012745Z
URL:https://business.tricountyareachamber.com/events/details/ice-cream-social-858872
END:VEVENT

END:VCALENDAR
