BEGIN:VCALENDAR
VERSION:2.0
PRODID:-//ChamberMaster//Event Calendar 2.0//EN
METHOD:PUBLISH
X-PUBLISHED-TTL:P3D
REFRESH-INTERVAL:P3D
CALSCALE:GREGORIAN
BEGIN:VEVENT
DTSTART:20180311T003000Z
DTEND:20180311T033000Z
X-MICROSOFT-CDO-ALLDAYEVENT:FALSE
SUMMARY:Impressionism in Music
DESCRIPTION:Impressionism in music was a movement among composers in Western classical music\, mainly during the late 19th and early 20th centuries\, whose music focuses on suggestion and atmosphere\, "conveying the moods and emotions aroused by the subject rather than a detailed tone picture". "Impressionism" is a philosophical and aesthetic term borrowed from late 19th century French painting after Monet's Impression\, Sunrise. Composers were labeled impressionists by analogy to the impressionist painters who use starkly contrasting colors\, effect of light on an object\, blurry foreground and background\, flattening perspective\, etc. to make the observer focus his attention on the overall impression. CMS faculty artists will perform pieces by some of the key forerunners of the impressionist era including works by Debussy\, Raval and Satie. Audiences can expect to hear a variety of instrumental and vocal music that represents this fascinating period of music and art.
X-ALT-DESC;FMTTYPE=text/html:Impressionism in music was a movement among composers in Western classical music\, mainly during the late 19th and early 20th centuries\, whose music focuses on suggestion and atmosphere\, &ldquo\;conveying the moods and emotions aroused by the subject rather than a detailed tone picture&rdquo\;. &ldquo\;Impressionism&rdquo\; is a philosophical and aesthetic term borrowed from late 19th century French painting after Monet&rsquo\;s Impression\, Sunrise. Composers were labeled impressionists by analogy to the impressionist painters who use starkly contrasting colors\, effect of light on an object\, blurry foreground and background\, flattening perspective\, etc. to make the observer focus his attention on the overall impression. CMS faculty artists will perform pieces by some of the key forerunners of the impressionist era including works by Debussy\, Raval and Satie. Audiences can expect to hear a variety of instrumental and vocal music that represents this fascinating period of music and art.
LOCATION:Community Music School 775 W. Main St. Trappe\, PA 19426
UID:e.2183.848765
SEQUENCE:3
DTSTAMP:20260421T123633Z
URL:https://business.tricountyareachamber.com/events/details/impressionism-in-music-848765
END:VEVENT

END:VCALENDAR
