BEGIN:VCALENDAR
VERSION:2.0
PRODID:-//ChamberMaster//Event Calendar 2.0//EN
METHOD:PUBLISH
X-PUBLISHED-TTL:P3D
REFRESH-INTERVAL:P3D
CALSCALE:GREGORIAN
BEGIN:VEVENT
DTSTART:20170311T010000Z
DTEND:20170319T020000Z
X-MICROSOFT-CDO-ALLDAYEVENT:FALSE
SUMMARY:INCORRUPTIBLE
DESCRIPTION:MCT is debuting their new "A Snack & 2 Acts" format with Michael Hollinger's INCORRUPTIBLE. It's dark\, it's hilarious and it goes great with a session IPA. Patrons are invited to enjoy an outstanding full-length comedy with cabaret style seating. Ticket prices include light snacks and soft drinks and guests are welcome to bring their own wine or beer. Performance dates and times: (Doors will open 45 minutes prior to performance time) Friday\, March 10 8:00 pm Saturday\, March 11 8:00 pm Sunday\, March 12 2:00 pm Friday\, March 17 8:00 pm Saturday\, March 18 8:00pm Tickets $25 for all\, $225 for a package of ten tickets.
X-ALT-DESC;FMTTYPE=text/html:MCT is debuting their new &quot\;A Snack &amp\; 2 Acts&quot\; format with Michael Hollinger&#39\;s INCORRUPTIBLE. It&#39\;s dark\, it&#39\;s hilarious and it goes great with a session IPA. Patrons are invited to enjoy an outstanding full-length comedy with cabaret style seating. Ticket prices include light snacks and soft drinks and guests are welcome to bring their own wine or beer. Performance dates and times: (Doors will open 45 minutes prior to performance time) Friday\, March 10 8:00 pm Saturday\, March 11 8:00 pm Sunday\, March 12 2:00 pm Friday\, March 17 8:00 pm Saturday\, March 18 8:00pm Tickets $25 for all\, $225 for a package of ten tickets.
LOCATION:The Variety Club Recreation Hall 2950 Potshop Road Worcester PA 19490
UID:e.2183.847485
SEQUENCE:3
DTSTAMP:20260420T164022Z
URL:https://business.tricountyareachamber.com/events/details/incorruptible-847485
END:VEVENT

END:VCALENDAR
