BEGIN:VCALENDAR
VERSION:2.0
PRODID:-//ChamberMaster//Event Calendar 2.0//EN
METHOD:PUBLISH
X-PUBLISHED-TTL:P3D
REFRESH-INTERVAL:P3D
CALSCALE:GREGORIAN
BEGIN:VEVENT
DTSTART:20170513T160000Z
DTEND:20170513T200000Z
X-MICROSOFT-CDO-ALLDAYEVENT:FALSE
SUMMARY:Introduction to Aquaponic/Hydroponic Gardening
DESCRIPTION:In this course you'll learn the history\, the design fundamentals of aquaponic and hydroponic systems\, and system maintenance. Topics include system design concepts\, water chemistry and quality considerations\, species selection for both plants and fish\, and lessons learned in designing and maintaining the operational systems in the Aquaponics Laboratory. You'll get to see operational manufactured systems as well some do-it-yourself systems that incorporate easily accessible components and repurposed hardware. Whether you're interested in setting up a manufactured system\, a do-it-yourselfer looking for ideas and insight\, or just want to learn more about this fascinating method of growing plants and raising fish\, this informative course will help set you up for success.\n \n\nTo register for classes\, call Enrollment Services at West Campus at 215.641.6397.\n\nFor general information\, you may contact Sharon DelPorte sdelporte@mc3.edu\, 610.718.1819.
X-ALT-DESC;FMTTYPE=text/html:<span style="color: rgb(101\, 101\, 101)\; font-family: Arial\, Helvetica\, sans-serif\; font-size: 14px\; background-color: rgb(255\, 255\, 255)\;">In this course you&#39\;ll learn the history\, the&nbsp\;design fundamentals of aquaponic and hydroponic systems\, and system maintenance. Topics include system design concepts\, water chemistry and quality considerations\, species selection for both plants and fish\, and lessons learned in designing and maintaining the operational systems in the Aquaponics Laboratory. You&#39\;ll get to see operational manufactured systems as well some do-it-yourself systems that incorporate easily accessible components and repurposed hardware. Whether you&#39\;re interested in setting up a manufactured system\, a do-it-yourselfer looking for ideas and insight\, or just want to learn more about this fascinating method of growing plants and raising fish\, this informative course will help set you up for success.</span>\n<div>&nbsp\;</div>\n\n<div><font color="#656565" face="Arial\, Helvetica\, sans-serif"><span style="font-size: 14px\;">To register for classes\, call Enrollment Services at West Campus at 215.641.6397.<br />\nFor general information\, you may contact Sharon DelPorte <a href="mailto:sdelporte@mc3.edu">sdelporte@mc3.edu</a>\, 610.718.1819.</span></font></div>\n
LOCATION:MCCC Sustainability and Innovation Hub 140 College Drive Pottstown\, PA 19464
UID:e.2183.847650
SEQUENCE:3
DTSTAMP:20260420T213602Z
URL:https://business.tricountyareachamber.com/events/details/introduction-to-aquaponic-hydroponic-gardening-847650
END:VEVENT

END:VCALENDAR
