BEGIN:VCALENDAR
VERSION:2.0
PRODID:-//ChamberMaster//Event Calendar 2.0//EN
METHOD:PUBLISH
X-PUBLISHED-TTL:P3D
REFRESH-INTERVAL:P3D
CALSCALE:GREGORIAN
BEGIN:VEVENT
DTSTART:20170128T230000Z
DTEND:20170129T023000Z
X-MICROSOFT-CDO-ALLDAYEVENT:FALSE
SUMMARY:Introduction to Home Brewing
DESCRIPTION:Interested in what it takes to set up and brew your own beer? Do you enjoy the flavor of micro-brews but tired of paying the cost? Then this course is for you! \n\nLearn the science behind brewing. Taught by an experienced brewer\, in this course you'll learn how to set up and brew your own beer right at home. More than just an informational course\, you'll get to see the components and techniques up close\, learn the chemistry behind brewing\, and troubleshoot your product to make a better\, more flavorful brew your friends will ask for again and again.\n\n\nVisit mc3.edu/homeartisans for more information or call 610.718.1944 (select option #2\, the #4 to register)
X-ALT-DESC;FMTTYPE=text/html:<p style="margin: 15px 0px 15px 30px\; color: rgb(101\, 101\, 101)\; font-family: Arial\, Helvetica\, sans-serif\; font-size: 14px\; background-color: rgb(255\, 255\, 255)\;">Interested in what it takes to set up and brew your own beer? Do you enjoy the flavor of micro-brews but tired of paying the cost? Then this course is for you!&nbsp\;</p>\n\n<p style="margin: 15px 0px 15px 30px\; color: rgb(101\, 101\, 101)\; font-family: Arial\, Helvetica\, sans-serif\; font-size: 14px\; background-color: rgb(255\, 255\, 255)\;">Learn the science behind brewing. Taught by an experienced brewer\, in this course you&#39\;ll learn how to set up and brew your own beer right at home. More than just an informational course\, you&#39\;ll get to see the components and techniques up close\, learn the chemistry behind brewing\, and troubleshoot your product to make a better\, more flavorful brew your friends will ask for again and again.</p>\n<br />\nVisit <a href="http://www.mc3.edu/component/content/article/96-campus-life/9823-home-artisans">mc3.edu/homeartisans</a>&nbsp\;for more information or call 610.718.1944 (select option #2\, the #4 to register)
LOCATION:Weak Knee 1277 North Charlotte Street Pottstown\, PA 19464
UID:e.2183.847399
SEQUENCE:3
DTSTAMP:20260420T132232Z
URL:https://business.tricountyareachamber.com/events/details/introduction-to-home-brewing-847399
END:VEVENT

END:VCALENDAR
