BEGIN:VCALENDAR
VERSION:2.0
PRODID:-//ChamberMaster//Event Calendar 2.0//EN
METHOD:PUBLISH
X-PUBLISHED-TTL:P3D
REFRESH-INTERVAL:P3D
CALSCALE:GREGORIAN
BEGIN:VEVENT
DTSTART:20250213T140000Z
DTEND:20250213T220000Z
X-MICROSOFT-CDO-ALLDAYEVENT:FALSE
SUMMARY:Job Fair at Chestnut Knoll
DESCRIPTION:Hiring Part-Time Caregivers - Med Techs Apply in person or online. Text 16276 to 833-748-2246
X-ALT-DESC;FMTTYPE=text/html:Hiring Part-Time Caregivers - Med Techs Apply in person or online. Text 16276 to 833-748-2246
LOCATION:120 W. 5th Street Boyertown\, PA 19512
UID:e.2183.861665
SEQUENCE:3
DTSTAMP:20260425T175728Z
URL:https://business.tricountyareachamber.com/events/details/job-fair-at-chestnut-knoll-861665
END:VEVENT

END:VCALENDAR
