BEGIN:VCALENDAR
VERSION:2.0
PRODID:-//ChamberMaster//Event Calendar 2.0//EN
METHOD:PUBLISH
X-PUBLISHED-TTL:P3D
REFRESH-INTERVAL:P3D
CALSCALE:GREGORIAN
BEGIN:VEVENT
DTSTART:20170408T130000Z
DTEND:20170408T160000Z
X-MICROSOFT-CDO-ALLDAYEVENT:FALSE
SUMMARY:Job Readiness Workshops
DESCRIPTION:Are you looking for a job or a better job?\n\n\n\nJob Readiness Workshops presented by Gary Hines\, President of Gary Hines Consulting Group\, LLC - attend one or all three workshops!\n\n\n\nSaturday March 25: Resume overview and development\n\nSaturday April 1: Job interviewing skills and strategies\n\nSaturday April 8: Job search review\, self-motivation and confidence\n\n\n\nTo register\, call 610.326.7323.
X-ALT-DESC;FMTTYPE=text/html:<div style="text-align: center\;"><em><strong>Are you looking for a job or a better job?</strong></em></div>\n\n<div><br />\nJob Readiness Workshops presented by Gary Hines\, President of Gary Hines Consulting Group\, LLC - attend one or all three workshops!<br />\n<br />\nSaturday March 25: Resume overview and development<br />\nSaturday April 1: Job interviewing skills and strategies<br />\nSaturday April 8: Job search review\, self-motivation and confidence<br />\n<br />\nTo register\, call 610.326.7323.</div>\n
LOCATION:300 King Street Pottstown\, PA 19464
UID:e.2183.847577
SEQUENCE:3
DTSTAMP:20260420T181956Z
URL:https://business.tricountyareachamber.com/events/details/job-readiness-workshops-847577
END:VEVENT

END:VCALENDAR
