BEGIN:VCALENDAR
VERSION:2.0
PRODID:-//ChamberMaster//Event Calendar 2.0//EN
METHOD:PUBLISH
X-PUBLISHED-TTL:P3D
REFRESH-INTERVAL:P3D
CALSCALE:GREGORIAN
BEGIN:VEVENT
DTSTART:20211005T223000Z
DTEND:20211005T233000Z
X-MICROSOFT-CDO-ALLDAYEVENT:FALSE
SUMMARY:Joining Their Journey\; free dementia care seminar
DESCRIPTION:Keystone Villa at Douglassville\, Personal Care and Memory Care\, is hosting a free\, three-part dementia support series called "Joining Their Journey\," held at the senior living community\, located at 1152 Ben Franklin Highway E.\, on Tuesday\, Oct. 5\, from 6:30-7:30 p.m. Our minds and bodies experience gradual changes\, as we get older. Forgetfulness and difficulty with memory can be a sign of normal aging or something more. Guest speaker Lori Dierolf from Open Door Training and Development discusses "Is it Normal Aging\, or is it Dementia?" RSVPs appreciated. To reserve your spot\, please call Sue O. at 610-385-5002.
X-ALT-DESC;FMTTYPE=text/html:Keystone Villa at Douglassville\, Personal Care and Memory Care\, is hosting a free\, three-part dementia support series called &ldquo\;Joining Their Journey\,&rdquo\; held at the senior living community\, located at 1152 Ben Franklin Highway E.\, on Tuesday\, Oct. 5\, from 6:30-7:30 p.m. Our minds and bodies experience gradual changes\, as we get older. Forgetfulness and difficulty with memory can be a sign of normal aging or something more. Guest speaker Lori Dierolf from Open Door Training and Development discusses &ldquo\;Is it Normal Aging\, or is it Dementia?&rdquo\; RSVPs appreciated. To reserve your spot\, please call Sue O. at 610-385-5002.
LOCATION:Keystone Villa at Douglassville 1152 Ben Franklin Hwy E. Douglassville\, PA
UID:e.2183.856835
SEQUENCE:3
DTSTAMP:20260421T055612Z
URL:https://business.tricountyareachamber.com/events/details/joining-their-journey-free-dementia-care-seminar-856835
END:VEVENT

END:VCALENDAR
