BEGIN:VCALENDAR
VERSION:2.0
PRODID:-//ChamberMaster//Event Calendar 2.0//EN
METHOD:PUBLISH
X-PUBLISHED-TTL:P3D
REFRESH-INTERVAL:P3D
CALSCALE:GREGORIAN
BEGIN:VEVENT
DTSTART:20170718T170000Z
DTEND:20170718T180000Z
X-MICROSOFT-CDO-ALLDAYEVENT:FALSE
SUMMARY:Joint Seminar
DESCRIPTION:Focus on Fixed Income\n\nFocus on Fixed Income\n\n\n\nTaking an Interest in Bonds May Help Provide Interest for Your Future. Owning investments that provide you with regular income can be a smart decision. That's why it's a good idea to learn how fixed-income investments such as bonds may help you to reach your financial goals. Attend our Focus on Fixed Income presentation to learn about bond characteristics and features\, the relationship between interest rates and bond features\, as well as how bonds may help you weather fluctuating markets. Seating is limited. Call today to reserve space for yourself and a guest at this event.\n\n\n\nQuestions - contact Rachel Kunicki or Bonnie L. Thompson at 610.326.1035.
X-ALT-DESC;FMTTYPE=text/html:<h2 style="box-sizing: border-box\; font-size: 24px\; font-weight: normal\; margin: 0px 0px 20px\; color: rgb(91\, 88\, 84)\; font-family: ProximaNova\, &quot\;Helvetica Neue&quot\;\, Helvetica\, Arial\, sans-serif\; background-color: rgb(255\, 255\, 255)\;">Focus on Fixed Income</h2>\n\n<p style="box-sizing: border-box\; margin-top: 0px\; color: rgb(91\, 88\, 84)\; font-family: ProximaNova\, &quot\;Helvetica Neue&quot\;\, Helvetica\, Arial\, sans-serif\; font-size: 16px\; background-color: rgb(255\, 255\, 255)\;" xmlns="http://www.w3.org/1999/xhtml">Focus on Fixed Income<br />\n<br />\nTaking an Interest in Bonds May Help Provide Interest for Your Future. Owning investments that provide you with regular income can be a smart decision. That&#39\;s why it&#39\;s a good idea to learn how fixed-income investments such as bonds may help you to reach your financial goals. Attend our Focus on Fixed Income presentation to learn about bond characteristics and features\, the relationship between interest rates and bond features\, as well as how bonds may help you weather fluctuating markets. Seating is limited. Call today to reserve space for yourself and a guest at this event.<br />\n<br />\nQuestions - contact Rachel Kunicki or Bonnie L. Thompson at 610.326.1035.</p>\n
LOCATION:Sanatoga Ridge Community 2461 East High Street Pottstown\, PA 19464
UID:e.2183.847708
SEQUENCE:3
DTSTAMP:20260421T010335Z
URL:https://business.tricountyareachamber.com/events/details/joint-seminar-847708
END:VEVENT

END:VCALENDAR
