BEGIN:VCALENDAR
VERSION:2.0
PRODID:-//ChamberMaster//Event Calendar 2.0//EN
METHOD:PUBLISH
X-PUBLISHED-TTL:P3D
REFRESH-INTERVAL:P3D
CALSCALE:GREGORIAN
BEGIN:VEVENT
DTSTART:20251101T130000Z
DTEND:20251219T020000Z
X-MICROSOFT-CDO-ALLDAYEVENT:FALSE
SUMMARY:Junior Indoor Fall Tennis Clinics
DESCRIPTION:Youth tennis clinics for ages 5 to 18 years old.  All levels are welcome.  Limited space is available.  Please see website for more information.  https://greaterpottstowntennis.org/juniors/junior-clinics-camps/
X-ALT-DESC;FMTTYPE=text/html:Youth tennis clinics for ages 5 to 18 years old.&nbsp\; All levels are welcome.&nbsp\; Limited space is available.&nbsp\; Please see website for more information.&nbsp\;&nbsp\;https://greaterpottstowntennis.org/juniors/junior-clinics-camps/
LOCATION:Clinics will be held at the Pottstown YWCA - 724 N Adams Street\, Pottstown and The Wyndcroft School - 415 Rosedale Drive\, Pottstown
UID:e.2183.863909
SEQUENCE:3
DTSTAMP:20260421T192024Z
URL:https://business.tricountyareachamber.com/events/details/junior-indoor-fall-tennis-clinics-863909
END:VEVENT

END:VCALENDAR
