BEGIN:VCALENDAR
VERSION:2.0
PRODID:-//ChamberMaster//Event Calendar 2.0//EN
METHOD:PUBLISH
X-PUBLISHED-TTL:P3D
REFRESH-INTERVAL:P3D
CALSCALE:GREGORIAN
BEGIN:VEVENT
DTSTART:20180505T200000Z
DTEND:20180506T010000Z
X-MICROSOFT-CDO-ALLDAYEVENT:FALSE
SUMMARY:Kentucky Derby Run
DESCRIPTION:We will depart Boyertown at 4 PM\, travel in style to the Pottstown Carousel.  At the Carousel\, you will watch the Derby on big screen TVs while enjoying a catered hors d'oeuvres & dinner buffet\, cash bar (beer & wine) and other fun activities including a Bonnet Contest for the ladies!! \n\nAfter the race\, fun\, and festivities we will depart Pottstown at 8 PM for our return trip to Boyertown.\n\nMAKE YOUR RESERVATIONS NOW ~ SEATING IS LIMITED
X-ALT-DESC;FMTTYPE=text/html:<p style="box-sizing: border-box\; margin-top: 0px\; margin-bottom: 1.5em\; font-family: &quot\;Roboto Slab&quot\;\, serif\; font-size: 16px\; background-color: rgb(255\, 255\, 255)\;">We will depart Boyertown at 4 PM\, travel in style to the Pottstown Carousel.&nbsp\; At the Carousel\, you will watch the Derby on big screen TVs while enjoying a catered hors d&#39\;oeuvres &amp\; dinner buffet\, cash bar (beer &amp\; wine) and other fun activities including a Bonnet Contest for the ladies!!&nbsp\;</p>\n\n<p style="box-sizing: border-box\; margin-top: 0px\; margin-bottom: 1.5em\; font-family: &quot\;Roboto Slab&quot\;\, serif\; font-size: 16px\; background-color: rgb(255\, 255\, 255)\;">After the race\, fun\, and festivities we will depart Pottstown at 8 PM for our return trip to Boyertown.</p>\n\n<p style="box-sizing: border-box\; margin-top: 0px\; margin-bottom: 1.5em\; font-family: &quot\;Roboto Slab&quot\;\, serif\; font-size: 16px\; background-color: rgb(255\, 255\, 255)\;">MAKE YOUR RESERVATIONS NOW ~ SEATING IS LIMITED</p>\n
LOCATION:Colebrookdale Railroad 64 S. Washington St. Boyertown\, PA 19512
UID:e.2183.850331
SEQUENCE:3
DTSTAMP:20260424T012720Z
URL:https://business.tricountyareachamber.com/events/details/kentucky-derby-run-850331
END:VEVENT

END:VCALENDAR
