BEGIN:VCALENDAR
VERSION:2.0
PRODID:-//ChamberMaster//Event Calendar 2.0//EN
METHOD:PUBLISH
X-PUBLISHED-TTL:P3D
REFRESH-INTERVAL:P3D
CALSCALE:GREGORIAN
BEGIN:VEVENT
DTSTART:20170605T213000Z
DTEND:20170606T010000Z
X-MICROSOFT-CDO-ALLDAYEVENT:FALSE
SUMMARY:Kiss A Pig Finale
DESCRIPTION:Cocktails\, Hors d'oeuvres\, Contests\, Competitions\, Live & Silent Auction.\n\n\nEnjoy a complete program of special events and enjoy seeing who our 2017 Pig Kissers are going to be.\n\n\nHistory\n\nThe Kiss-A-Pig idea began with a Boys & Girls Club in Tampa\, Florida.  In 1994\, Olivet Boys & Girls Club began a contest of our own.  The contest began as a way to raise funds and increase the awareness of Olivet Boys & Girls Club throughout Reading and Berks County. Since the contest's inception\, Olivet Boys & Girls Club has been able to recruit local business and community leaders to compete for the "honor" of kissing a pig owned by Ms. Kim Miller. To date\, the Kiss-A-Pig contest has been one of the most successful fundraisers for the Club\, raising over one million dollars!\n\nHow it works\n\nKiss-A-Pig Candidates compete to raise the most money for Olivet Boys & Girls Club. Candidates do this by communicating with their contacts\, holding contests\, sponsoring events\, involving their employees\, friends\, neighbors\, vendors and others\, and using their enthusiasm and creativity. The three Candidates who raise the most money will kiss Miss Maycie May the pig at Olivet's annual Cocktail Party on June 5th\, 2017 at the First Energy Stadium.\nAll funds raised support the mission of Olivet Boys & Girls Club: to enable all young people\, especially those who need us most\, to reach their full potential as healthy\, productive\, caring\, responsible citizens. \n\n\n\nOlivet Boys & Girls Club provides year-round programming for thousands of at-risk youth ages 6 to 18 through a variety of opportunities in eight Club locations\, Our Club kids participate in numerous activities and programs that enrich their lives and help make them successful  students\, athletes and citizens.\n\n\n\nThe real winners of the Kiss-A-Pig Campaign are the Olivet Club kids who benefit from the funds and friends raised through this one-of-a-kind contest!
X-ALT-DESC;FMTTYPE=text/html:<h2>Cocktails\, Hors d&rsquo\;oeuvres\, Contests\, Competitions\, Live &amp\; Silent Auction.</h2>\n\n<div>\n<p>Enjoy a complete program of special events and enjoy seeing who our 2017 Pig Kissers are going to be.</p>\n</div>\n\n<p><strong>History</strong></p>\n\n<p>The Kiss-A-Pig idea began with a Boys &amp\; Girls Club in Tampa\, Florida.&nbsp\; In 1994\, Olivet Boys &amp\; Girls Club began a contest of our own.&nbsp\; The contest began as a way to raise funds and increase the awareness of Olivet Boys &amp\; Girls Club throughout Reading and Berks County. Since the contest&rsquo\;s inception\, Olivet Boys &amp\; Girls Club has been able to recruit local business and community leaders to compete for the &ldquo\;honor&rdquo\; of kissing a pig owned by Ms. Kim Miller. To date\, the Kiss-A-Pig contest has been one of the most successful fundraisers for the Club\, raising over one million dollars!</p>\n\n<p><strong>How it works</strong></p>\n\n<p>Kiss-A-Pig Candidates compete to raise the most money for Olivet Boys &amp\; Girls Club. Candidates do this by communicating with their contacts\, holding contests\, sponsoring events\, involving their employees\, friends\, neighbors\, vendors and others\, and using their enthusiasm and creativity.&nbsp\;The three Candidates who raise the most money will kiss Miss Maycie May the pig at Olivet&rsquo\;s annual Cocktail Party on June 5th\, 2017 at the First Energy Stadium.</p>\n<span style="font-size:12pt"><span style="font-family:times new roman\,serif">All funds raised support the mission of Olivet Boys &amp\; Girls Club:&nbsp\;<em>to enable all young people\, especially those who need us most\, to reach their full potential as healthy\, productive\, caring\, responsible citizens.</em> </span></span><br />\n<br />\n<span style="font-size:12pt"><span style="font-family:times new roman\,serif">Olivet Boys &amp\; Girls Club provides year-round programming for thousands of at-risk youth ages 6 to 18 through a variety of opportunities in eight Club locations\, Our Club kids participate in numerous activities and programs that enrich their lives and help make them successful&nbsp\;&nbsp\;students\, athletes and citizens.</span></span><br />\n<br />\n<span style="font-size:12pt"><span style="font-family:times new roman\,serif">The real winners of the Kiss-A-Pig Campaign are the Olivet Club kids who benefit from the funds and friends raised through this one-of-a-kind contest!</span></span>
LOCATION:First Energy Stadium 1900 Centre Ave Reading\, PA 19601
UID:e.2183.847421
SEQUENCE:3
DTSTAMP:20260420T232754Z
URL:https://business.tricountyareachamber.com/events/details/kiss-a-pig-save-a-kid-847421
END:VEVENT

END:VCALENDAR
