BEGIN:VCALENDAR
VERSION:2.0
PRODID:-//ChamberMaster//Event Calendar 2.0//EN
METHOD:PUBLISH
X-PUBLISHED-TTL:P3D
REFRESH-INTERVAL:P3D
CALSCALE:GREGORIAN
BEGIN:VEVENT
DTSTART:20200906T040000Z
DTEND:20200913T035500Z
X-MICROSOFT-CDO-ALLDAYEVENT:FALSE
SUMMARY:Labor of Love Virtual Ride or Stride
DESCRIPTION:Are you ready to get out of the house? Do something Fun? Support a great cause? American Heritage Credit Union's Kids-N-Hope Foundation invites you to participate in our inaugural 7-day Labor of Love Virtual Ride or Stride! When: Sunday\, September 6\, 2020 through Saturday\, September 12\, 2020 Who: We are looking for individuals to join in on the fun and help us raise money by creating their own team and inviting family\, friends and community members to participate in this fun event to support the mission of our Kids-N-Hope Foundation Where: During this 7-day virtual event\, participants can walk or ride as little or as much as they like. We have created 6 virtual courses\, varying from 3 to 160 miles. You can ride or walk these courses or whatever distance you like\, whenever you like. What: The Kids-N-Hope Foundation provides support for children's health and life services\, specifically music therapy at the Children's Hospital of Philadelphia and other local hospitals and non-profits within American Heritage's Workplace Partner Program. Join in on the fun and help us travel a total of 2\,000 miles and reach our fundraising goal of $25\,000!
X-ALT-DESC;FMTTYPE=text/html:Are you ready to get out of the house? Do something Fun? Support a great cause? American Heritage Credit Union&#39\;s Kids-N-Hope Foundation invites you to participate in our inaugural 7-day Labor of Love Virtual Ride or Stride! When: Sunday\, September 6\, 2020 through Saturday\, September 12\, 2020 Who: We are looking for individuals to join in on the fun and help us raise money by creating their own team and inviting family\, friends and community members to participate in this fun event to support the mission of our Kids-N-Hope Foundation Where: During this 7-day virtual event\, participants can walk or ride as little or as much as they like. We have created 6 virtual courses\, varying from 3 to 160 miles. You can ride or walk these courses or whatever distance you like\, whenever you like. What: The Kids-N-Hope Foundation provides support for children&rsquo\;s health and life services\, specifically music therapy at the Children&rsquo\;s Hospital of Philadelphia and other local hospitals and non-profits within American Heritage&rsquo\;s Workplace Partner Program. Join in on the fun and help us travel a total of 2\,000 miles and reach our fundraising goal of $25\,000!
LOCATION:This is a virtual event. Register online at www.KNHLaborOfLove.org
UID:e.2183.856318
SEQUENCE:3
DTSTAMP:20260425T214757Z
URL:https://business.tricountyareachamber.com/events/details/labor-of-love-virtual-ride-or-stride-856318
END:VEVENT

END:VCALENDAR
