BEGIN:VCALENDAR
VERSION:2.0
PRODID:-//ChamberMaster//Event Calendar 2.0//EN
METHOD:PUBLISH
X-PUBLISHED-TTL:P3D
REFRESH-INTERVAL:P3D
CALSCALE:GREGORIAN
BEGIN:VEVENT
DTSTART:20230308T140000Z
DTEND:20230308T153000Z
X-MICROSOFT-CDO-ALLDAYEVENT:FALSE
SUMMARY:Leadership from the Inside Out Q&A
DESCRIPTION:If you were unable to attend the luncheon on Feb. 22\, you may join this interactive Zoom session that will offer a brief overview of the main concepts/framework of "Leadership from the Inside Out" to level set and then we'll dive into the Q&A and sharing. The registration fee for just the Zoom session is $10.
X-ALT-DESC;FMTTYPE=text/html:<span style="color: rgb(0\, 0\, 0)\; font-family: arial\; font-size: 14px\;">If you were unable to attend the luncheon on Feb. 22\, you may join this interactive Zoom session that will offer a brief overview of the main concepts/framework of &quot\;Leadership from the Inside Out&quot\; to level set and then we&rsquo\;ll dive into the Q&amp\;A and sharing. The registration fee for just the Zoom session is $10.&nbsp\;</span>
LOCATION:Virtual via Zoom
UID:e.2183.858307
SEQUENCE:3
DTSTAMP:20260420T073607Z
URL:https://business.tricountyareachamber.com/events/details/leadership-from-the-inside-out-q-a-858307
END:VEVENT

END:VCALENDAR
