BEGIN:VCALENDAR
VERSION:2.0
PRODID:-//ChamberMaster//Event Calendar 2.0//EN
METHOD:PUBLISH
X-PUBLISHED-TTL:P3D
REFRESH-INTERVAL:P3D
CALSCALE:GREGORIAN
BEGIN:VEVENT
DTSTART:20170621T123000Z
DTEND:20170621T133000Z
X-MICROSOFT-CDO-ALLDAYEVENT:FALSE
SUMMARY:Leadership Tri-County Information Session
DESCRIPTION:Attend a no-obligation information session to learn about the 10-month Leadership Tri-County Program\, including: cost\, time commitments\, and opportunities provided through this program.\n\n\n\nThe Leadership Tri-County year begins in September and concludes in June. Members meet every first Thursday of the month for briefings\, tours\, seminars and hands-on learning. The Leadership Tri-County program agendas bring in top-level business\, civic and government leaders for discussion\, education and question and answer sessions.\n\n\n\nUnable to make either session and still want to learn more - contact Eileen at 610.326.2900 to schedule a meeting today!
X-ALT-DESC;FMTTYPE=text/html:Attend a no-obligation information session to learn about the 10-month Leadership Tri-County Program\, including: cost\, time commitments\, and opportunities provided through this program.<br />\n<br />\nThe Leadership Tri-County year begins in September and concludes in June. Members meet every first Thursday of the month for briefings\, tours\, seminars and hands-on learning. The Leadership Tri-County program agendas bring in top-level business\, civic and government leaders for discussion\, education and question and answer sessions.<br />\n<br />\n<span style="font-size:16px\;"><em><strong>Unable to make either session and still want to learn more - contact Eileen at 610.326.2900 to schedule a meeting today!</strong></em></span>
LOCATION:Chamber Office 152 E. High St.\, Suite 360 Pottstown\, PA 19464
UID:e.2183.847693
SEQUENCE:3
DTSTAMP:20260420T213417Z
URL:https://business.tricountyareachamber.com/events/details/leadership-tri-county-information-session-847693
END:VEVENT

END:VCALENDAR
