BEGIN:VCALENDAR
VERSION:2.0
PRODID:-//ChamberMaster//Event Calendar 2.0//EN
METHOD:PUBLISH
X-PUBLISHED-TTL:P3D
REFRESH-INTERVAL:P3D
CALSCALE:GREGORIAN
BEGIN:VEVENT
DTSTART:20170712T170000Z
DTEND:20170712T180000Z
X-MICROSOFT-CDO-ALLDAYEVENT:FALSE
SUMMARY:Leadership Tri-County Information Session
DESCRIPTION:Attend a no-obligation information session to learn about the 10-month Leadership Tri-County Program\, including: cost\, time commitments\, and opportunities provided through this program.\n\n\n\nThe Leadership Tri-County year begins in September and concludes in June. Members meet every first Thursday of the month for briefings\, tours\, seminars and hands-on learning. The Leadership Tri-County program agendas bring in top-level business\, civic and government leaders for discussion\, education and question and answer sessions.\n\n\n\nUnable to make either session and still want to learn more - contact Jennifer at 610.326.2900 to schedule a meeting today!
X-ALT-DESC;FMTTYPE=text/html:Attend a no-obligation information session to learn about the 10-month Leadership Tri-County Program\, including: cost\, time commitments\, and opportunities provided through this program.<br />\n<br />\nThe Leadership Tri-County year begins in September and concludes in June. Members meet every first Thursday of the month for briefings\, tours\, seminars and hands-on learning. The Leadership Tri-County program agendas bring in top-level business\, civic and government leaders for discussion\, education and question and answer sessions.<br />\n<br />\n<em style="color: rgb(51\, 51\, 51)\; font-family: sans-serif\, Arial\, Verdana\, &quot\;Trebuchet MS&quot\;\; font-size: 16px\; background-color: rgb(255\, 255\, 255)\;"><strong>Unable to make either session and still want to learn more - contact Jennifer at 610.326.2900 to schedule a meeting today!</strong></em>
LOCATION:Chamber Office 152 E. High St.\, Suite 360 Pottstown\, PA 19464
UID:e.2183.847694
SEQUENCE:3
DTSTAMP:20260420T233044Z
URL:https://business.tricountyareachamber.com/events/details/leadership-tri-county-information-session-847694
END:VEVENT

END:VCALENDAR
