BEGIN:VCALENDAR
VERSION:2.0
PRODID:-//ChamberMaster//Event Calendar 2.0//EN
METHOD:PUBLISH
X-PUBLISHED-TTL:P3D
REFRESH-INTERVAL:P3D
CALSCALE:GREGORIAN
BEGIN:VEVENT
DTSTART:20230914T120000Z
DTEND:20230914T130000Z
X-MICROSOFT-CDO-ALLDAYEVENT:FALSE
SUMMARY:Leadership TriCounty Alumni Coffee with the Class
DESCRIPTION:Alumni are invited to join us for Coffee with the Leadership TriCounty Class of 2024 on:\n\nSept. 14th from 8am to 9am at MCCC Pottstown Campus\, North Hall.  This is a great opportunity for Alumni to help kick off the Leadership TriCounty experience for a new cohort who will be starting their first day of class!\n\n\n\nPlease RSVP to confirm your attendance by emailing Angela at: \n\nangela@tricountyareachamber.com or by registerring here.\n\n \n\nP.S. - Stay tuned for some exciting additional opportunities for Alumni coming up this year!
X-ALT-DESC;FMTTYPE=text/html:<strong>Alumni are invited to join us for Coffee with the Leadership TriCounty Class of 2024 on:</strong><br />\n<strong>Sept. 14th from 8am to 9am at MCCC Pottstown Campus\, North Hall.&nbsp\;&nbsp\;</strong>This is a great opportunity for Alumni to help kick off the Leadership TriCounty experience for a new cohort who will be starting their first day of class!<br />\n<br />\n<strong>Please RSVP to confirm your attendance by emailing Angela at:&nbsp\;</strong><br />\n<strong><a href="mailto:angela@tricountyareachamber.com" target="_blank">angela@tricountyareachamber.com</a>&nbsp\;or by registerring here.</strong><br />\n&nbsp\;<br />\nP.S. - Stay tuned for some exciting additional opportunities for Alumni coming up this year!<br />\n&nbsp\;
LOCATION:Montgomery County Community College North Hall
UID:e.2183.858963
SEQUENCE:3
DTSTAMP:20260419T222514Z
URL:https://business.tricountyareachamber.com/events/details/leadership-tricounty-alumni-coffee-with-the-class-858963
END:VEVENT

END:VCALENDAR
