BEGIN:VCALENDAR
VERSION:2.0
PRODID:-//ChamberMaster//Event Calendar 2.0//EN
METHOD:PUBLISH
X-PUBLISHED-TTL:P3D
REFRESH-INTERVAL:P3D
CALSCALE:GREGORIAN
BEGIN:VEVENT
DTSTART:20251112T230000Z
DTEND:20251113T010000Z
X-MICROSOFT-CDO-ALLDAYEVENT:FALSE
SUMMARY:Leadership TriCounty Alumni Non-Profit Event
DESCRIPTION:Join us for a special evening dedicated to community engagement and leadership development.\n\n\n\nThis event is designed to create connections between local nonprofit organizations and Leadership TriCounty Alumni and current class members. \n\n\n\nNon-Profits in attendance include:\n\n\n	ACLAMO\n	Animal Rescue League of Berks County\n	ArtFusion 19464\n	Be ReZilient\n	Boyertown Area Multi-Service\, Inc.\n	Family Services of Montgomery County\n	Goodworks\n	GreenAllies\n	Helping Hands\, Inc\n	Open Hearth\n	Petra Community Housing\n	Phoenixville Area Community Services\n	Pottstown Children's Discovery Center\n	Powered By Transformation\n	The Ferns Peer Run-Respite\, LLC\n	YWCA Tri-County Area\n\n\nWhat to Expect:\n\n\n	\n	Nonprofit Showcase: Local nonprofit organizations will set up tables\, offering a chance to learn about their missions and current needs.\n	\n	\n	Networking Opportunities: Leadership TriCounty Alumni and current class members will have the opportunity to visit these tables and network with both the organizations and each other.\n	\n	\n	Find Your Fit: Current class members can find volunteer opportunities to fulfill their class commitment. Alumni and current members can discover organizations they may not be familiar with\, creating mutually beneficial relationships and new leadership avenues
X-ALT-DESC;FMTTYPE=text/html:<p><span style="color:#000000\;"><span class="citation-23">Join us for a special evening dedicated to </span><b>community engagement</b><span class="citation-23"> and </span><b>leadership development</b></span><span class="citation-23 citation-end-23"><source-footnote _nghost-ng-c3795881607="" ng-version="0.0.0-PLACEHOLDER"></source-footnote></span><span style="color:#000000\;">.</span><sources-carousel-inline _nghost-ng-c4016470676="" ng-version="0.0.0-PLACEHOLDER"><source-inline-chips _ngcontent-ng-c4016470676="" _nghost-ng-c786323692="" class="ng-star-inserted"><source-inline-chip _ngcontent-ng-c786323692="" _nghost-ng-c448890458="" class="ng-star-inserted"></source-inline-chip></source-inline-chips></sources-carousel-inline><br />\n<br />\n<span style="color:#000000\;"><span class="citation-22">This event is designed to create connections between local&nbsp\;</span><b>nonprofit organizations</b><span class="citation-22"> and </span><b>Leadership TriCounty Alumni and current class members</b></span><span class="citation-22 citation-end-22"><source-footnote _nghost-ng-c3795881607="" ng-version="0.0.0-PLACEHOLDER"></source-footnote></span><span style="color:#000000\;">.&nbsp\;<br />\n<br />\nNon-Profits in attendance include:</span></p>\n\n<ul>\n	<li><span style="color:#000000\;"><span data-sheets-root="1" style="font-size: 10pt\; font-family: Arial\;">ACLAMO</span></span></li>\n	<li><span style="color:#000000\;"><span data-sheets-root="1" style="font-size: 10pt\; font-family: Arial\;">Animal Rescue League of Berks County</span></span></li>\n	<li><span style="color:#000000\;"><span data-sheets-root="1" style="font-size: 10pt\; font-family: Arial\;">ArtFusion 19464</span></span></li>\n	<li><span style="color:#000000\;"><span data-sheets-root="1" style="font-size: 10pt\; font-family: Arial\;">Be ReZilient</span></span></li>\n	<li><span style="color:#000000\;"><span data-sheets-root="1" style="font-size: 10pt\; font-family: Arial\;">Boyertown Area Multi-Service\, Inc.</span></span></li>\n	<li><span style="color:#000000\;"><span data-sheets-root="1" style="font-size: 10pt\; font-family: Arial\;">Family Services of Montgomery County</span></span></li>\n	<li><span style="color:#000000\;"><span data-sheets-root="1" style="font-size: 10pt\; font-family: Arial\;">Goodworks</span></span></li>\n	<li><span style="color:#000000\;"><span data-sheets-root="1" style="font-size: 10pt\; font-family: Arial\;">GreenAllies</span></span></li>\n	<li><span style="color:#000000\;"><span data-sheets-root="1" style="font-size: 10pt\; font-family: Arial\;">Helping Hands\, Inc</span></span></li>\n	<li><span style="color:#000000\;"><span data-sheets-root="1" style="font-size: 10pt\; font-family: Arial\;">Open Hearth</span></span></li>\n	<li><span style="color:#000000\;"><span data-sheets-root="1" style="font-size: 10pt\; font-family: Arial\;">Petra Community Housing</span></span></li>\n	<li><span style="color:#000000\;"><span data-sheets-root="1" style="font-size: 10pt\; font-family: Arial\;">Phoenixville Area Community Services</span></span></li>\n	<li><span style="color:#000000\;"><span data-sheets-root="1" style="font-size: 10pt\; font-family: Arial\;">Pottstown Children&#39\;s Discovery Center</span></span></li>\n	<li><span style="color:#000000\;"><span data-sheets-root="1" style="font-size: 10pt\; font-family: Arial\;">Powered By Transformation</span></span></li>\n	<li><span style="color:#000000\;"><span data-sheets-root="1" style="font-size: 10pt\; font-family: Arial\;">The Ferns Peer Run-Respite\, LLC</span></span></li>\n	<li><span style="color:#000000\;"><span data-sheets-root="1" style="font-size: 10pt\; font-family: Arial\;">YWCA Tri-County Area</span></span></li>\n</ul>\n\n<h3><span style="color:#000000\;">What to Expect:</span></h3>\n\n<ul>\n	<li>\n	<p><span style="color:#000000\;"><b>Nonprofit Showcase:</b><span class="citation-21 citation-end-21"> Local nonprofit organizations will set up tables\, offering a chance to learn about their missions and current needs</span></span><span class="citation-21 citation-end-21"><source-footnote _nghost-ng-c3795881607="" ng-version="0.0.0-PLACEHOLDER"></source-footnote></span><span style="color:#000000\;">.</span><sources-carousel-inline _nghost-ng-c4016470676="" ng-version="0.0.0-PLACEHOLDER"><source-inline-chips _ngcontent-ng-c4016470676="" _nghost-ng-c786323692="" class="ng-star-inserted"><source-inline-chip _ngcontent-ng-c786323692="" _nghost-ng-c448890458="" class="ng-star-inserted"></source-inline-chip></source-inline-chips></sources-carousel-inline></p>\n	</li>\n	<li>\n	<p><span style="color:#000000\;"><b>Networking Opportunities:<span class="citation-20"> </span>Leadership TriCounty Alumni</b><span class="citation-20"> and </span><b>current class members</b><span class="citation-20 citation-end-20"> will have the opportunity to visit these tables and network with both the organizations and each other</span></span><span class="citation-20 citation-end-20"><source-footnote _nghost-ng-c3795881607="" ng-version="0.0.0-PLACEHOLDER"></source-footnote></span><span style="color:#000000\;">.</span><sources-carousel-inline _nghost-ng-c4016470676="" ng-version="0.0.0-PLACEHOLDER"><source-inline-chips _ngcontent-ng-c4016470676="" _nghost-ng-c786323692="" class="ng-star-inserted"><source-inline-chip _ngcontent-ng-c786323692="" _nghost-ng-c448890458="" class="ng-star-inserted"></source-inline-chip></source-inline-chips></sources-carousel-inline></p>\n	</li>\n	<li>\n	<p><span style="color:#000000\;"><b>Find Your Fit:</b><span class="citation-19"> Current class members can find </span><b>volunteer opportunities</b><span class="citation-19 citation-end-19"> to fulfill their class commitment</span></span><span class="citation-19 citation-end-19"><source-footnote _nghost-ng-c3795881607="" ng-version="0.0.0-PLACEHOLDER"></source-footnote></span><span style="color:#000000\;">. <span class="citation-18 citation-end-18">Alumni and current members can discover organizations they may not be familiar with\, creating mutually beneficial relationships and new leadership avenues</span></span></p>\n	<source-inline-chip _ngcontent-ng-c786323692="" _nghost-ng-c448890458="" class="ng-star-inserted"> </source-inline-chip></li>\n</ul>\n
LOCATION:TriCounty Area Chamber of Commerce @ Philadelphia Premium Outlets 18 W. Lightcap rd\, Suite 613 Pottstown\, PA 19464
UID:e.2183.864039
SEQUENCE:3
DTSTAMP:20260419T185221Z
URL:https://business.tricountyareachamber.com/events/details/leadership-tricounty-alumni-non-profit-event-864039
END:VEVENT

END:VCALENDAR
