BEGIN:VCALENDAR
VERSION:2.0
PRODID:-//ChamberMaster//Event Calendar 2.0//EN
METHOD:PUBLISH
X-PUBLISHED-TTL:P3D
REFRESH-INTERVAL:P3D
CALSCALE:GREGORIAN
BEGIN:VEVENT
DTSTART:20240229T200000Z
DTEND:20240229T213000Z
X-MICROSOFT-CDO-ALLDAYEVENT:FALSE
SUMMARY:Leap Year Social
DESCRIPTION:What: Leap Year Social\n\n\n\nWhen: Thursday\, February 29\, 2024\n\n\n\nTime: 3:00 - 4:30 PM\n\n\n\nWhere: TriCounty Area Chamber Office\n\n\n\nWhy Attend:  This is one more day in the year to celebrate our Members.  Join us for:\n\n	Cocoa Bar with all of the fixings.\n	Network with fellow Members.\n	1 Filled Participation Punch Card to all who attend.
X-ALT-DESC;FMTTYPE=text/html:<span style="font-size:16px\;"><span style="font-family:arial\;">What: <strong>Leap Year Social</strong><br />\n<br />\nWhen: <strong>Thursday\, February 29\, 2024</strong><br />\n<br />\nTime: <strong>3:00 - 4:30 PM</strong><br />\n<br />\nWhere: <strong>TriCounty Area Chamber Office</strong><br />\n<br />\nWhy Attend:&nbsp\; This is one more day in the year to celebrate our Members.&nbsp\; Join us for:</span></span>\n<ul>\n	<li><span style="font-size:16px\;"><span style="font-family:arial\;">Cocoa Bar with all of the fixings.</span></span></li>\n	<li><span style="font-size:16px\;"><span style="font-family:arial\;">Network with fellow Members.</span></span></li>\n	<li><span style="font-size:16px\;"><span style="font-family:arial\;">1 Filled Participation Punch Card to all who attend.&nbsp\;</span></span></li>\n</ul>\n
LOCATION:TriCounty Area Chamber of Commerce Offices 152 E. High Street\, Suite 200 Pottstown\, PA
UID:e.2183.860394
SEQUENCE:3
DTSTAMP:20260421T084002Z
URL:https://business.tricountyareachamber.com/events/details/leap-year-social-860394
END:VEVENT

END:VCALENDAR
