BEGIN:VCALENDAR
VERSION:2.0
PRODID:-//ChamberMaster//Event Calendar 2.0//EN
METHOD:PUBLISH
X-PUBLISHED-TTL:P3D
REFRESH-INTERVAL:P3D
CALSCALE:GREGORIAN
BEGIN:VEVENT
DTSTART:20160125T133000Z
DTEND:20160125T143000Z
X-MICROSOFT-CDO-ALLDAYEVENT:FALSE
SUMMARY:Legislative Coffee
DESCRIPTION:CANCELED!\n\n\n\nJoin invited Legislative representatives for an informal networking opportunity to discuss issues that may have an impact on you or your business   the economy\, state budget\, taxes\, etc.\, just to name a few.
X-ALT-DESC;FMTTYPE=text/html:<br />\n<span style="font-size: 12px\;"><span style="font-family: arial\;"><span style="font-size: 14px\;"><span style="color: rgb(255\, 0\, 0)\;"><strong>CANCELED!</strong></span></span><br />\n<br />\nJoin invited Legislative representatives for an informal networking opportunity to discuss issues that may have an impact on you or your business &ndash\; the economy\, state budget\, taxes\, etc.\, just to name a few.&nbsp\;</span></span>
LOCATION:TriCounty Area Chamber of Commerce 152 E. High St.\, Suite 360 Pottstown\, PA 19464 There is limited parking available in the lot at the Security Trust Building at 152 High St. You must have a permit to park in a reserved space or you may be ticketed. Parking is available on High St. for up to 3 hours at no charge\, or in the Freight Station Municipal lot\, across the railroad tracks (enter off Hanover St.) for 10 per hour.
UID:e.2183.845281
SEQUENCE:3
DTSTAMP:20260425T205851Z
URL:https://business.tricountyareachamber.com/events/details/legislative-coffee-01-25-2016-845281
END:VEVENT

END:VCALENDAR
